BEGIN:VCALENDAR
VERSION:2.0
PRODID:-//HEART Centre Leeds - ECPv6.3.7//NONSGML v1.0//EN
CALSCALE:GREGORIAN
METHOD:PUBLISH
X-ORIGINAL-URL:https://heartcentre.org.uk
X-WR-CALDESC:Events for HEART Centre Leeds
REFRESH-INTERVAL;VALUE=DURATION:PT1H
X-Robots-Tag:noindex
X-PUBLISHED-TTL:PT1H
BEGIN:VTIMEZONE
TZID:Europe/London
BEGIN:DAYLIGHT
TZOFFSETFROM:+0000
TZOFFSETTO:+0100
TZNAME:BST
DTSTART:20260329T010000
END:DAYLIGHT
BEGIN:STANDARD
TZOFFSETFROM:+0100
TZOFFSETTO:+0000
TZNAME:GMT
DTSTART:20261025T010000
END:STANDARD
END:VTIMEZONE
BEGIN:VEVENT
DTSTART;TZID=Europe/London:20260127T190000
DTEND;TZID=Europe/London:20260127T213000
DTSTAMP:20260424T040313
CREATED:20251007T134207Z
LAST-MODIFIED:20251007T134207Z
UID:34381-1769540400-1769549400@heartcentre.org.uk
SUMMARY:TNL: Tightrope Moon
DESCRIPTION:Tuesday Night Live: TIGHTROPE MOON \nDoors 7pm Music 7.15pm \nTIGHTROPE MOON cast a silver web over their audiences as violin\, viola and vocals entwine in celestial sounds and hypnotic melodies. From gritty re-imaginings of English\, Swedish and American tunes to delicate compositions and ethereal improvisations\, their music feels like secrets whispered in the dark. \nSeth Bye and Cori Smith have performed at leading folk festivals including Sidmouth\, Cambridge\, FolkEast\, and Shrewsbury. Cori\, a BBC Young Musician finalist\, is renowned for her performances across England and Sweden\, while Seth’s work in Filkin’s Drift has recently been featured on BBC Radio 2\, 3\, 4\, and 6 Music. Tightrope Moon’s electrifying groove-based tunes create a sound that is otherworldly\, yet deeply rooted in tradition. \nAdvance tickets £8/£7 available from HEART reception and online \nOn the Night £10 \n\n\n\n  \n 
URL:https://heartcentre.org.uk/event/tnl-tightrope-moon/
LOCATION:Shire Oak Hall\, Bennett Road\, Leeds\, LS6 3HN\, United Kingdom
CATEGORIES:Events,Folk,Tuesday Night Live
END:VEVENT
END:VCALENDAR