BEGIN:VCALENDAR
VERSION:2.0
PRODID:-//HEART Centre Leeds - ECPv6.3.7//NONSGML v1.0//EN
CALSCALE:GREGORIAN
METHOD:PUBLISH
X-ORIGINAL-URL:https://heartcentre.org.uk
X-WR-CALDESC:Events for HEART Centre Leeds
REFRESH-INTERVAL;VALUE=DURATION:PT1H
X-Robots-Tag:noindex
X-PUBLISHED-TTL:PT1H
BEGIN:VTIMEZONE
TZID:Europe/London
BEGIN:DAYLIGHT
TZOFFSETFROM:+0000
TZOFFSETTO:+0100
TZNAME:BST
DTSTART:20260329T010000
END:DAYLIGHT
BEGIN:STANDARD
TZOFFSETFROM:+0100
TZOFFSETTO:+0000
TZNAME:GMT
DTSTART:20261025T010000
END:STANDARD
END:VTIMEZONE
BEGIN:VEVENT
DTSTART;TZID=Europe/London:20260303T100000
DTEND;TZID=Europe/London:20260303T123000
DTSTAMP:20260420T102038
CREATED:20260205T193723Z
LAST-MODIFIED:20260205T193815Z
UID:34656-1772532000-1772541000@heartcentre.org.uk
SUMMARY:HEARTLINES celebrate International Women's Day
DESCRIPTION:  \nJoin HEARTLINES Writers Group to celebrate 115 years of International Women’s Day \ndoors 10.15am event starts 10.30am \nwith a programme of poetry\, prose and music from Harissa choir and singer/songwriter Maria Sandle \nFree event – donations accepted. \nSponsored by Headingley Lit Fest \n \n 
URL:https://heartcentre.org.uk/event/heartlines-celebrate-international-womens-day/
LOCATION:Shire Oak Hall\, Bennett Road\, Leeds\, LS6 3HN\, United Kingdom
CATEGORIES:Choir,Events,Folk,International Women's Day,poetry,prose reading
END:VEVENT
BEGIN:VEVENT
DTSTART;TZID=Europe/London:20260309T190000
DTEND;TZID=Europe/London:20260309T210000
DTSTAMP:20260420T102038
CREATED:20251109T155643Z
LAST-MODIFIED:20260130T140804Z
UID:34447-1773082800-1773090000@heartcentre.org.uk
SUMMARY:SOUNDBITES - Poetry Open Mic
DESCRIPTION:SOUNDBITES – Monthly Poetry Open Mic  \nLive in the Assembly Bar + Kitchen! \nReadings by a different local published poet each month. This month we’re delighted to welcome PETER SPAFFORD \nPeter is a writer\, songwriter and broadcaster. He has written for radio\, theatre\,\nmusical theatre and opera. \nHis poetry collections so far are QUICK (Valley Press) and FRISK\n(Yaffle). His latest collection\, SUN TANKING was released by Yaffle Press in 2025. \nHe is also Director of Words at Chapel FM Arts Centre where he curates the annual WRITING\nON AIR festival and presents the weekly podcast LOVE THE WORDS. \nOPEN MIC \nWe supply the mic – you supply the poetry \nPut your name down for a 4 minute slot (first come\, first served) or just come along and listen. \nOpen mic name listing from 6.30pm \nEvent begins with guest poet at 7.00pm \nEveryone welcome. Free (donation appreciated)
URL:https://heartcentre.org.uk/event/soundbites-poetry-open-mic/
LOCATION:Assembly Bar + Kitchen\, Bennett Road\, Leeds\, LS6 3HN\, United Kingdom
CATEGORIES:Events,Poetry,poetry open mic
ATTACH;FMTTYPE=image/jpeg:https://heartcentre.org.uk/wp-content/uploads/2024/01/Soundbites-event-heading.jpeg
END:VEVENT
END:VCALENDAR