BEGIN:VCALENDAR
VERSION:2.0
PRODID:-//HEART Centre Leeds - ECPv6.3.7//NONSGML v1.0//EN
CALSCALE:GREGORIAN
METHOD:PUBLISH
X-ORIGINAL-URL:https://heartcentre.org.uk
X-WR-CALDESC:Events for HEART Centre Leeds
REFRESH-INTERVAL;VALUE=DURATION:PT1H
X-Robots-Tag:noindex
X-PUBLISHED-TTL:PT1H
BEGIN:VTIMEZONE
TZID:Europe/London
BEGIN:DAYLIGHT
TZOFFSETFROM:+0000
TZOFFSETTO:+0100
TZNAME:BST
DTSTART:20260329T010000
END:DAYLIGHT
BEGIN:STANDARD
TZOFFSETFROM:+0100
TZOFFSETTO:+0000
TZNAME:GMT
DTSTART:20261025T010000
END:STANDARD
END:VTIMEZONE
BEGIN:VEVENT
DTSTART;TZID=Europe/London:20260209T190000
DTEND;TZID=Europe/London:20260209T210000
DTSTAMP:20260420T010009
CREATED:20251109T155216Z
LAST-MODIFIED:20251221T184722Z
UID:34445-1770663600-1770670800@heartcentre.org.uk
SUMMARY:SOUNDBITES - Monthly Poetry Open Mic
DESCRIPTION:SOUNDBITES – Monthly Poetry Open Mic  \nLive in the Assembly Bar + Kitchen! \nReadings by a different local published poet each month and this month we’re delighted to welcome Amanda Crundall \nAmanda is a published author\, poet\, spoken word performer and radio presenter. Her\ndebut collection “Heart on her Sleeve” with Enigma Press Partnership Publishing was\npublished in 2024. She is based in East Yorkshire\, UK. \nHer writings are often deep rooted with raw emotion and energy.\nAmanda’s candid and brutally honest approach to writing about life has been described as heart felt\, energetic\, brave and bringing what other’s may be feeling alive and acknowledged. \nShe was delighted to have her poetry accepted for performance at the 2023 Festival of\nLove event at D31 Gallery\, Doncaster and Scunthorpe Pride (2023) in addition to having a\nselection of her poems published in The Script Magazine (2022). \nDuring 2024 her poetry has been accepted and published within the following collection:\nSisterhood Anthology\, Ripon Poetry Festival\, “Down our Street” and the High Wolds Poetry\nAnthologies. \nDuring Autumn 2024 she had a poem ‘highly commended’ as part of the Dark Poet’s\nSociety competition; her poetry has featured on LiveWire Poetry\, Online Anthologies and\nshe has been broadcast live on North Manchester FM and Phoenix Community Radio\,\nGoole. More recently\, her poetry has been successful in The Written Woman Anthology\n(2025) Collection and Write To Be Heard publication (2025). \nThe Emboldened Heart is her second publication. Her third publication is in progress. \nOPEN MIC \nWe supply the mic – you supply the poetry \nPut your name down for a 5 minute slot (first come\, first served) or just come along and listen. \nOpen mic name listing from 6.30pm \nEvent begins with guest poet at 7.00pm \nEveryone welcome. Free (donation appreciated)
URL:https://heartcentre.org.uk/event/soundbites-monthly-poetry-open-mic-25/
LOCATION:Assembly Bar + Kitchen\, Bennett Road\, Leeds\, LS6 3HN\, United Kingdom
CATEGORIES:Events,poetry,poetry open mic
ATTACH;FMTTYPE=image/jpeg:https://heartcentre.org.uk/wp-content/uploads/2024/01/Soundbites-event-heading.jpeg
END:VEVENT
END:VCALENDAR