BEGIN:VCALENDAR
VERSION:2.0
PRODID:-//HEART Centre Leeds - ECPv6.3.7//NONSGML v1.0//EN
CALSCALE:GREGORIAN
METHOD:PUBLISH
X-ORIGINAL-URL:https://heartcentre.org.uk
X-WR-CALDESC:Events for HEART Centre Leeds
REFRESH-INTERVAL;VALUE=DURATION:PT1H
X-Robots-Tag:noindex
X-PUBLISHED-TTL:PT1H
BEGIN:VTIMEZONE
TZID:Europe/London
BEGIN:DAYLIGHT
TZOFFSETFROM:+0000
TZOFFSETTO:+0100
TZNAME:BST
DTSTART:20250330T010000
END:DAYLIGHT
BEGIN:STANDARD
TZOFFSETFROM:+0100
TZOFFSETTO:+0000
TZNAME:GMT
DTSTART:20251026T010000
END:STANDARD
END:VTIMEZONE
BEGIN:VEVENT
DTSTART;TZID=Europe/London:20251104T190000
DTEND;TZID=Europe/London:20251104T213000
DTSTAMP:20260423T000126
CREATED:20250919T153327Z
LAST-MODIFIED:20250919T153327Z
UID:34289-1762282800-1762291800@heartcentre.org.uk
SUMMARY:TNL: Opera North Strings featuring David Brown
DESCRIPTION:Tuesday Night Live: OPERA NORTH STRINGS featuring DAVID BROWN \nDoors 7pm Music 7.15pm \nJoin Byron Parish\, together with friends from the Orchestra of Opera North for an inspiring and contrasting evening of music. Joseph Haydn’s ‘Sunrise’ quartet was among the last he wrote\, and one of his most surprising and inventive. \nThe strings will then be joined by vocalist David Brown for the Juliet Letters; a song cycle of imagined correspondence. Written by Elvis Costello and The Brodskys in 1993\, they are a set of messages expressing in turn love\, betrayal\, loss and redemption. Emotive and uplifting! \nAdvance tickets £8/£7  \nOn the Night: £10 \n\n\n\n 
URL:https://heartcentre.org.uk/event/tnl-opera-north-strings-featuring-david-brown/
LOCATION:Shire Oak Hall\, Bennett Road\, Leeds\, LS6 3HN\, United Kingdom
CATEGORIES:Classical,Events,Tuesday Night Live
END:VEVENT
END:VCALENDAR