BEGIN:VCALENDAR
VERSION:2.0
PRODID:-//HEART Centre Leeds - ECPv6.3.7//NONSGML v1.0//EN
CALSCALE:GREGORIAN
METHOD:PUBLISH
X-ORIGINAL-URL:https://heartcentre.org.uk
X-WR-CALDESC:Events for HEART Centre Leeds
REFRESH-INTERVAL;VALUE=DURATION:PT1H
X-Robots-Tag:noindex
X-PUBLISHED-TTL:PT1H
BEGIN:VTIMEZONE
TZID:Europe/London
BEGIN:DAYLIGHT
TZOFFSETFROM:+0000
TZOFFSETTO:+0100
TZNAME:BST
DTSTART:20250330T010000
END:DAYLIGHT
BEGIN:STANDARD
TZOFFSETFROM:+0100
TZOFFSETTO:+0000
TZNAME:GMT
DTSTART:20251026T010000
END:STANDARD
END:VTIMEZONE
BEGIN:VEVENT
DTSTART;TZID=Europe/London:20250715T190000
DTEND;TZID=Europe/London:20250715T213000
DTSTAMP:20260422T050826
CREATED:20250504T104828Z
LAST-MODIFIED:20250709T091207Z
UID:33914-1752606000-1752615000@heartcentre.org.uk
SUMMARY:TNL: Silverlode with Her Orange Coat
DESCRIPTION:Tuesday Night Live: SILVERLODE with support HER ORANGE COAT \nDoors 7pm Music 7.15pm \nListen to Silverlode here \nSilverlode is a folksome indie rock band from Leeds\, England. A folk band in the broadest sense of the word; dogs of pop; self-taught musical ruffians who play to their own traditions. Reinventors of self and prone to playing their songs in a myriad of ways\, join Silverlode on their mythological journey through history\, future\, fantasy and good times via their ever-evolving music. \nRunning\, jumping\, limping\, crawling\, picking themselves up\, dusting off and pushing forward with writing\, recording and releasing songs — staying true to their steadfast DIY work ethic since around 2001 — that’s nearly twenty years of hot trouble. \nWith support from – Her Orange Coat  \n  \n  \nAdvance tickets £8/£7 concessions available from HEART reception \nOn the night £10
URL:https://heartcentre.org.uk/event/tnl-silverlode/
LOCATION:Shire Oak Hall\, Bennett Road\, Leeds\, LS6 3HN\, United Kingdom
CATEGORIES:Events,Folk,Indie,Tuesday Night Live
END:VEVENT
END:VCALENDAR