BEGIN:VCALENDAR
VERSION:2.0
PRODID:-//HEART Centre Leeds - ECPv6.3.7//NONSGML v1.0//EN
CALSCALE:GREGORIAN
METHOD:PUBLISH
X-ORIGINAL-URL:https://heartcentre.org.uk
X-WR-CALDESC:Events for HEART Centre Leeds
REFRESH-INTERVAL;VALUE=DURATION:PT1H
X-Robots-Tag:noindex
X-PUBLISHED-TTL:PT1H
BEGIN:VTIMEZONE
TZID:Europe/London
BEGIN:DAYLIGHT
TZOFFSETFROM:+0000
TZOFFSETTO:+0100
TZNAME:BST
DTSTART:20250330T010000
END:DAYLIGHT
BEGIN:STANDARD
TZOFFSETFROM:+0100
TZOFFSETTO:+0000
TZNAME:GMT
DTSTART:20251026T010000
END:STANDARD
END:VTIMEZONE
BEGIN:VEVENT
DTSTART;TZID=Europe/London:20251028T190000
DTEND;TZID=Europe/London:20251028T213000
DTSTAMP:20260422T033118
CREATED:20250916T151655Z
LAST-MODIFIED:20251015T174202Z
UID:34230-1761678000-1761687000@heartcentre.org.uk
SUMMARY:TNL: Tir
DESCRIPTION:Tuesday Night Live: TIR \nDoors 7pm Music 7.15pm \nTìr was born out of improvisational jams in the breaks of a recording session\, but quickly evolved into a project with its own identity\, rooted in original compositions and a shared musical language. \nThe trio draws inspiration from a broad palette: the spacious Americana lyricism of Bill Frisell to the meditative textures of Nordic jazz pioneers Tord Gustavsen Trio\, Eple Trio\, and e.s.t.\, and the gentle experimentalism of modern folk and ambient traditions. Their music explores themes of home\, longing\, stillness\, and the quiet power of nature—offering listeners a space to reflect\, drift\, and settle. \nBased in Leeds\, Joe Wilkes (bass)\, Felix Bertulis-Webb (piano)\, and Eddie Bowes (drums/guitar) are long-time friends and collaborators whose musical chemistry is grounded in trust\, conversation\, and play. Melodically driven and emotionally open\, Tìr explores improvisation and musical intention\, where every note feels like part of a long\, familiar walk home. \nAdvance tickets £8/£7 concessions available from HEART reception and online \nOn the Night £10
URL:https://heartcentre.org.uk/event/tnl-tir/
LOCATION:Shire Oak Hall\, Bennett Road\, Leeds\, LS6 3HN\, United Kingdom
CATEGORIES:Events,Folk,Jazz,Tuesday Night Live
END:VEVENT
END:VCALENDAR