BEGIN:VCALENDAR
VERSION:2.0
PRODID:-//HEART Centre Leeds - ECPv6.3.7//NONSGML v1.0//EN
CALSCALE:GREGORIAN
METHOD:PUBLISH
X-ORIGINAL-URL:https://heartcentre.org.uk
X-WR-CALDESC:Events for HEART Centre Leeds
REFRESH-INTERVAL;VALUE=DURATION:PT1H
X-Robots-Tag:noindex
X-PUBLISHED-TTL:PT1H
BEGIN:VTIMEZONE
TZID:Europe/London
BEGIN:DAYLIGHT
TZOFFSETFROM:+0000
TZOFFSETTO:+0100
TZNAME:BST
DTSTART:20260329T010000
END:DAYLIGHT
BEGIN:STANDARD
TZOFFSETFROM:+0100
TZOFFSETTO:+0000
TZNAME:GMT
DTSTART:20261025T010000
END:STANDARD
END:VTIMEZONE
BEGIN:VEVENT
DTSTART;TZID=Europe/London:20260203T190000
DTEND;TZID=Europe/London:20260203T213000
DTSTAMP:20260421T124113
CREATED:20251203T173447Z
LAST-MODIFIED:20260114T104813Z
UID:34511-1770145200-1770154200@heartcentre.org.uk
SUMMARY:TNL: Music from the Floor
DESCRIPTION:Tuesday Night Live: MUSIC FROM THE FLOOR \nDoors 7pm Music 7.15pm \nMusic from the Floor is the improvising ensemble led by drummer Louis Berthoud\, featuring Tom O’Brien (piano) and Elliot Roffe (double bass). \nThe project takes influence from the world of free jazz (Ornette; Coltrane; Christian Lillinger) but also that of modern classical music (Boulez; Xenakis; Morton Feldman) to create music that is deeply rhythmic\, open and spacious. \nThe musicians interact spontaneously\, moving through improvised and composed material in an organic\, intuitive manner\, creating a sound that is at times intense\, whilst leaving space for musical ideas to fully form and develop. \nAdvance tickets £8/£7 available from HEART reception and online \nOn the Night £10
URL:https://heartcentre.org.uk/event/tnl-music-from-the-floor-2/
LOCATION:Shire Oak Hall\, Bennett Road\, Leeds\, LS6 3HN\, United Kingdom
CATEGORIES:Events,Jazz,Tuesday Night Live
END:VEVENT
BEGIN:VEVENT
DTSTART;TZID=Europe/London:20260209T190000
DTEND;TZID=Europe/London:20260209T210000
DTSTAMP:20260421T124113
CREATED:20251109T155216Z
LAST-MODIFIED:20251221T184722Z
UID:34445-1770663600-1770670800@heartcentre.org.uk
SUMMARY:SOUNDBITES - Monthly Poetry Open Mic
DESCRIPTION:SOUNDBITES – Monthly Poetry Open Mic  \nLive in the Assembly Bar + Kitchen! \nReadings by a different local published poet each month and this month we’re delighted to welcome Amanda Crundall \nAmanda is a published author\, poet\, spoken word performer and radio presenter. Her\ndebut collection “Heart on her Sleeve” with Enigma Press Partnership Publishing was\npublished in 2024. She is based in East Yorkshire\, UK. \nHer writings are often deep rooted with raw emotion and energy.\nAmanda’s candid and brutally honest approach to writing about life has been described as heart felt\, energetic\, brave and bringing what other’s may be feeling alive and acknowledged. \nShe was delighted to have her poetry accepted for performance at the 2023 Festival of\nLove event at D31 Gallery\, Doncaster and Scunthorpe Pride (2023) in addition to having a\nselection of her poems published in The Script Magazine (2022). \nDuring 2024 her poetry has been accepted and published within the following collection:\nSisterhood Anthology\, Ripon Poetry Festival\, “Down our Street” and the High Wolds Poetry\nAnthologies. \nDuring Autumn 2024 she had a poem ‘highly commended’ as part of the Dark Poet’s\nSociety competition; her poetry has featured on LiveWire Poetry\, Online Anthologies and\nshe has been broadcast live on North Manchester FM and Phoenix Community Radio\,\nGoole. More recently\, her poetry has been successful in The Written Woman Anthology\n(2025) Collection and Write To Be Heard publication (2025). \nThe Emboldened Heart is her second publication. Her third publication is in progress. \nOPEN MIC \nWe supply the mic – you supply the poetry \nPut your name down for a 5 minute slot (first come\, first served) or just come along and listen. \nOpen mic name listing from 6.30pm \nEvent begins with guest poet at 7.00pm \nEveryone welcome. Free (donation appreciated)
URL:https://heartcentre.org.uk/event/soundbites-monthly-poetry-open-mic-25/
LOCATION:Assembly Bar + Kitchen\, Bennett Road\, Leeds\, LS6 3HN\, United Kingdom
CATEGORIES:Events,poetry,poetry open mic
ATTACH;FMTTYPE=image/jpeg:https://heartcentre.org.uk/wp-content/uploads/2024/01/Soundbites-event-heading.jpeg
END:VEVENT
BEGIN:VEVENT
DTSTART;TZID=Europe/London:20260210T190000
DTEND;TZID=Europe/London:20260210T213000
DTSTAMP:20260421T124113
CREATED:20251204T161450Z
LAST-MODIFIED:20260113T215707Z
UID:34513-1770750000-1770759000@heartcentre.org.uk
SUMMARY:TNL: Laurel Canyon Acoustic
DESCRIPTION:Tuesday Night Live: LAUREL CANYON ACOUSTIC \nDoors 7pm Music 7.15pm \nLaurel Canyon Acoustic play their stripped back versions of songs from some of the greatest West Coast bands and singers from the late 60s and early 70s.\nWith an occasional venture away from California for some personal favourites of the Americana genre. \nAdvance tickets £8/£7 \nOn the Night £10
URL:https://heartcentre.org.uk/event/tnl-laurel-canyon-union-6/
LOCATION:Shire Oak Hall\, Bennett Road\, Leeds\, LS6 3HN\, United Kingdom
CATEGORIES:Americana,Events,Tuesday Night Live
END:VEVENT
BEGIN:VEVENT
DTSTART;TZID=Europe/London:20260213T190000
DTEND;TZID=Europe/London:20260213T213000
DTSTAMP:20260421T124113
CREATED:20251216T155910Z
LAST-MODIFIED:20251216T155910Z
UID:34529-1771009200-1771018200@heartcentre.org.uk
SUMMARY:Films at HEART: Anora
DESCRIPTION:Films at HEART: ANORA \nDoors 7pm Film 7.15pm \nDir Sean Baker//2hrs 19mins//Certificate 18//5 Oscar wins//2024 \nWatch Anora here \nA dark comedy/steamy romance starring Mikey Madison\, Paul Weissman and Lindsey Normington…a young stripper from Brooklyn meets and impulsively marries the son of a Russian oligarch. Once the news reaches Russia\, her fairy tale is threatened as his parents set out for New York to get the marriage annulled. \nReviews: \nRoger Ebert 4 stars out of 4 ‘Anora is boundlessly alive with a quality we’ve seen continually in the movies of Baker\, among the most humanist filmmakers working today. There is joy next to sadness. There is comedy inside a tragedy…’ \nRotten Tomatoes 93% ‘Sean Baker’s Palme d’Or winner ANORA is an audacious\, thrilling\, and comedic variation on a modern day Cinderella story. Mikey Madison captivates as Ani\, a young sex worker from Brooklyn whose life takes an unexpected turn when she meets and impulsively marries Vanya\, the impetuous son of a Russian billionaire.’ \nTickets  £6.50/£5.50 available from HEART reception and online
URL:https://heartcentre.org.uk/event/films-at-heart-anora/
LOCATION:Shire Oak Hall\, Bennett Road\, Leeds\, LS6 3HN\, United Kingdom
CATEGORIES:Events,Film,Films at Heart
ATTACH;FMTTYPE=image/jpeg:https://heartcentre.org.uk/wp-content/uploads/2022/02/Films-at-Heart-logo-e1767884595669.jpg
END:VEVENT
BEGIN:VEVENT
DTSTART;TZID=Europe/London:20260217T190000
DTEND;TZID=Europe/London:20260217T213000
DTSTAMP:20260421T124114
CREATED:20251211T160928Z
LAST-MODIFIED:20251211T160928Z
UID:34523-1771354800-1771363800@heartcentre.org.uk
SUMMARY:TNL: Essence of Django
DESCRIPTION:Tuesday Night Live: ESSENCE OF DJANGO \nDoors 7pm Music 7.15pm \nPresenting “Essence Of Django” – featuring some of the region’s hottest gypsy jazz and swing players\, playing music inspired from legendry musicians Django Reinhardt and Stephane Grappelli of the “Quintette du Hot Club de France”. Expect fiery solos\, foot-stomping rhythms\, burning ballads and even some Latin inspired piece. Essence Of Django remains in the spirit of Django and Stephane\, whilst pushing the genre’ of “gypsy jazz” forward into modern sphere.” \nLewis Kilvington – Guitar\nElliott Lewis – Guitar\nJohn Coulson – Double Bass \nAdvance tickets £8/£7 available from HEART reception and online \nOn the Night £10
URL:https://heartcentre.org.uk/event/tnl-essence-of-django-2/
LOCATION:Shire Oak Hall\, Bennett Road\, Leeds\, LS6 3HN\, United Kingdom
CATEGORIES:Events,Jazz,Tuesday Night Live
END:VEVENT
BEGIN:VEVENT
DTSTART;TZID=Europe/London:20260218T190000
DTEND;TZID=Europe/London:20260218T210000
DTSTAMP:20260421T124114
CREATED:20250429T114428Z
LAST-MODIFIED:20260107T130856Z
UID:33868-1771441200-1771448400@heartcentre.org.uk
SUMMARY:Quiz - with Mike
DESCRIPTION:
URL:https://heartcentre.org.uk/event/quiz-with-mike-14/
ATTACH;FMTTYPE=image/png:https://heartcentre.org.uk/wp-content/uploads/2025/04/The-HEart-Quiz-New-Poster-A2-Landscape.png
END:VEVENT
BEGIN:VEVENT
DTSTART;TZID=Europe/London:20260220T190000
DTEND;TZID=Europe/London:20260220T210000
DTSTAMP:20260421T124114
CREATED:20260123T151553Z
LAST-MODIFIED:20260123T151553Z
UID:34622-1771614000-1771621200@heartcentre.org.uk
SUMMARY:Life Drawing at HEART
DESCRIPTION:A monthly\, tutored life drawing session with experienced artist Tommy Egan – no materials nor experience required.\nHave you had “learn to draw” on your new years resolutions for the last few years in a row? Or are an experienced artist looking for a place to hone your craft? Our monthly life drawing class is perfect for everyone\, all abilities welcome. \nEach class will take place in our cosy Victorian school hall\, for 2 hours of relaxed\, tutored life drawing with our in house artist – the wonderful Tommy Egan. As a current artist in residence at Assembly House in Armley\, Tommy will host each session\, giving tips and advice to all attendees in order to improve your skills\, whilst also allowing you to explore your own creativity. We will use our stage lights to to illuminate the models\, casting light and creating shadows that form the contours of the body. \nWe will also provide you with all the necessary materials\, boards\, artist paper\, pencils and erasers\, whilst encouraging you to bring your own materials if you want to enhance your own experience. \nWith plenty of drinks and/or food on offer during the break in the lovely Assembly Bar and Kitchen\, Life Drawing at HEART is sure to be lovely way to spend your Friday evening!
URL:https://heartcentre.org.uk/event/life-drawing-at-heart/
LOCATION:Shire Oak Hall\, Bennett Road\, Leeds\, LS6 3HN\, United Kingdom
ATTACH;FMTTYPE=image/jpeg:https://heartcentre.org.uk/wp-content/uploads/2026/01/Life-Drawing-At-HEART-Presentation.jpg
END:VEVENT
BEGIN:VEVENT
DTSTART;TZID=Europe/London:20260224T190000
DTEND;TZID=Europe/London:20260224T213000
DTSTAMP:20260421T124114
CREATED:20251211T163322Z
LAST-MODIFIED:20251211T163322Z
UID:34526-1771959600-1771968600@heartcentre.org.uk
SUMMARY:TNL: Kristina Stead
DESCRIPTION:Tuesday Night Live: KRISTINA STEAD \nDoors 7pm Music 7.15pm \nSonic Sunshine Storyteller Kristina Stead is a hopeless optimist in a hopeless world. A songwriter who refuses to settle for surface-level pop\, she blends introspective storytelling with intricate arrangements influenced by artists like Anais Mitchell\, MIKA and boundary pushers such as Kate Bush. Her music carries a bright\, joyful energy even when the themes are heavier. Every song is built with care\, curiosity and emotional honesty. \nHer work stands out because she tackles cultural pressure\, burnout\, identity\, insomnia\, family and the quiet truths people avoid\, all while wrapping them in catchy hooks and vivid imagery. She aims to bring artistry and critical thought back into pop music at a time when much of the industry leans on boring formulas. Her songs act as little epiphanies\, nudging listeners to look at the world differently. Her mission is to shine her light in the darkness of this world\, exposing the toxic habits that society normalises\, while also bringing back joy in to music. \nKristina Stead is not escapism. It is illumination. It is pop with purpose\, created for real people who want to think\, feel and wake up from numb Consumerism\, and step into a joyful sonic landscape of intentionality\, purpose and meaning. \nAdvance tickets £8/£7 concession available from HEART reception and online. \nOn the Night £10
URL:https://heartcentre.org.uk/event/tnl-kristina-stead/
LOCATION:Shire Oak Hall\, Bennett Road\, Leeds\, LS6 3HN\, United Kingdom
CATEGORIES:Events,pop,Tuesday Night Live
END:VEVENT
BEGIN:VEVENT
DTSTART;TZID=Europe/London:20260227T190000
DTEND;TZID=Europe/London:20260227T213000
DTSTAMP:20260421T124114
CREATED:20260121T150126Z
LAST-MODIFIED:20260121T150318Z
UID:34613-1772218800-1772227800@heartcentre.org.uk
SUMMARY:FaH Retrospective: The Harder They Come
DESCRIPTION:Films at HEART: THE HARDER THEY COME \nDoors 7pm Film 7.15pm \nDir Perry Henzell/1hr 43mins/Certificate 15/1972 \nStars Jimmy Cliff\, Janet Bartley and Carl Bradshaw \nCredited with introducing reggae to the wider world this seminal Jamaican movie made in 1972 is loosely based on a true story – singer Ivanhoe Martin  played by Jimmy Cliff moves to  Kingston from the country\, in hope of finding success but instead comes up against poverty\, corrupt producers and crime.  While he becomes a folk hero and outlaw the songs become the hits they always deserved to be. \nWatch The Harder They Come trailer here \nReview: The Guardian: ‘This crime drama of a headstrong singer shooting for his chance of success is as raw and energetic as its reggae soundtrack’ \nTickets £6.50/£5.50 concessions (students and unwaged)
URL:https://heartcentre.org.uk/event/fah-retrospective-the-harder-they-come/
LOCATION:Shire Oak Hall\, Bennett Road\, Leeds\, LS6 3HN\, United Kingdom
CATEGORIES:Events,Films at Heart,reggae
ATTACH;FMTTYPE=image/jpeg:https://heartcentre.org.uk/wp-content/uploads/2022/02/Films-at-Heart-logo-e1767884595669.jpg
END:VEVENT
END:VCALENDAR