BEGIN:VCALENDAR
VERSION:2.0
PRODID:-//HEART Centre Leeds - ECPv6.3.7//NONSGML v1.0//EN
CALSCALE:GREGORIAN
METHOD:PUBLISH
X-ORIGINAL-URL:https://heartcentre.org.uk
X-WR-CALDESC:Events for HEART Centre Leeds
REFRESH-INTERVAL;VALUE=DURATION:PT1H
X-Robots-Tag:noindex
X-PUBLISHED-TTL:PT1H
BEGIN:VTIMEZONE
TZID:Europe/London
BEGIN:DAYLIGHT
TZOFFSETFROM:+0000
TZOFFSETTO:+0100
TZNAME:BST
DTSTART:20260329T010000
END:DAYLIGHT
BEGIN:STANDARD
TZOFFSETFROM:+0100
TZOFFSETTO:+0000
TZNAME:GMT
DTSTART:20261025T010000
END:STANDARD
BEGIN:DAYLIGHT
TZOFFSETFROM:+0000
TZOFFSETTO:+0100
TZNAME:BST
DTSTART:20270328T010000
END:DAYLIGHT
BEGIN:STANDARD
TZOFFSETFROM:+0100
TZOFFSETTO:+0000
TZNAME:GMT
DTSTART:20271031T010000
END:STANDARD
END:VTIMEZONE
BEGIN:VEVENT
DTSTART;TZID=Europe/London:20260610T190000
DTEND;TZID=Europe/London:20260610T213000
DTSTAMP:20260421T165011
CREATED:20260407T152822Z
LAST-MODIFIED:20260407T152822Z
UID:34775-1781118000-1781127000@heartcentre.org.uk
SUMMARY:Films at HEART: Banel and Adama
DESCRIPTION:Films at HEART: BANEL and ADAMA \nDoors 7pm. Film 7.15pm \nSee Banel and Adama trailer here \nDir Ramata-Toulaye Sy/1 hr 27 mins/Subtitles/Certificate 16/2023 \nSet in Senegal\, two young adults Banel played by Khady Mane and Adama played by Mamadou Diallo fall in love and decide to live separately from their families so that they can live together. When Adama refuses to fulfil his birthright to serve as the village’s future leader\, chaos ensues in the community. \nReview: \nThe NY Times · A love story suffused in beauty and mystery\, “Banel & Adama” draws you in right from the start. \nTickets £6.50/£5.50 concessions (students + unwaged) available from HEART reception and online \n 
URL:https://heartcentre.org.uk/event/films-at-heart-banel-and-adama/
LOCATION:Shire Oak Hall\, Bennett Road\, Leeds\, LS6 3HN\, United Kingdom
CATEGORIES:Events,Film
ATTACH;FMTTYPE=image/jpeg:https://heartcentre.org.uk/wp-content/uploads/2022/02/Films-at-Heart-logo-e1767884595669.jpg
END:VEVENT
BEGIN:VEVENT
DTSTART;TZID=Europe/London:20260621T100000
DTEND;TZID=Europe/London:20260621T170000
DTSTAMP:20260421T165011
CREATED:20260413T104326Z
LAST-MODIFIED:20260413T104326Z
UID:34790-1782036000-1782061200@heartcentre.org.uk
SUMMARY:Open Gardens
DESCRIPTION:
URL:https://heartcentre.org.uk/event/open-gardens-2/
END:VEVENT
BEGIN:VEVENT
DTSTART;TZID=Europe/London:20260623T190000
DTEND;TZID=Europe/London:20260623T213000
DTSTAMP:20260421T165011
CREATED:20260401T145702Z
LAST-MODIFIED:20260401T145702Z
UID:34758-1782241200-1782250200@heartcentre.org.uk
SUMMARY:TNL: Mambo Jambo
DESCRIPTION:Tuesday Night Live: MAMBO JAMBO \nDoors 7pm Music 7.15pm \nMusical explorers and eclectic duo Mambo Jambo have an infectious passion for playing live\, delighting audiences with their upbeat shows\, their original songs and all their instruments! Their music fuses magically crafted elements of roots\, jazz\, world and folk. Think carnivals\, fiestas\, hoedowns\, and speakeasies – all in one show! \nA fabulous musical treat is in store wherever they roll up\, their tour bus packed to the brim with instruments. Frankie is on sax\, vocals\, clarinet\, flute\, uke\, guitar\, and Pete on guitar\, vocal\, banjo\, tres (traditional Cuban guitar)\, accordion\, & between them all kinds of percussion including suitcase and spoons! \nPete and Frankie have appeared on various BBC Local Radio shows\, BBC Look North\, and MTV Asia\, and have been gathering admirers at shows & festivals the length and breadth of the country. UK festivals include Shetland\, Broadstairs\, Sidmouth\, Beverley Folk Festivals\, Manchester\, Hull & Cork Jazz Festival\, Musicport\, Knockengorroch\, International Eisteddfod\, Costa del Folk etc. They’ve toured France\, Ireland\, Netherlands and Sweden\, and played gigs as far afield as Havana\, Borneo and Reykjavik. \nAdvance tickets £8/£7 concessions (students + unwaged) available from HEART reception and online. \nOn the Night £10
URL:https://heartcentre.org.uk/event/tnl-mambo-jambo/
LOCATION:Shire Oak Hall\, Bennett Road\, Leeds\, LS6 3HN\, United Kingdom
CATEGORIES:Events,Folk,Jazz,Tuesday Night Live,World
END:VEVENT
BEGIN:VEVENT
DTSTART;TZID=Europe/London:20260630T190000
DTEND;TZID=Europe/London:20260630T213000
DTSTAMP:20260421T165011
CREATED:20260407T104327Z
LAST-MODIFIED:20260407T142041Z
UID:34767-1782846000-1782855000@heartcentre.org.uk
SUMMARY:TNL: Pick n Mix
DESCRIPTION:Tuesday Night Live: PICK n MIX \nDoors 7pm. Music 7.15pm \nPick n Mix are a Leeds-based four-piece acoustic group playing a range of covers (some well-known\, some not so) as well as originals\, across a broad range of genres. \nFeaturing Nick Davis\, John Hulbert\, Dani Humphreys and Vics Marshall – who all met through their local community group\, Music From The Attic – they blend acoustic guitars with intricate harmonies\, giving a new take of the covers they perform. \nThe name ‘Pick n Mix’ comes through the fact that their act tries to pick (and mix) a range of songs to suit most tastes – as well as the fact that the quartet pick and mix their lead vocalist\, featured guitarist etc depending on the song. \nHaving performed at a host of local venues since their formation in 2022 (as either a quartet\, trio or duo)\, they are very much looking forward to returning as a foursome to play at HEART on 30 June. \nAdvance tickets £8/£7 concession (students + unwaged) available from HEART reception and online \nOn the Night tickets £10
URL:https://heartcentre.org.uk/event/tnl-pick-n-mix/
LOCATION:Shire Oak Hall\, Bennett Road\, Leeds\, LS6 3HN\, United Kingdom
CATEGORIES:covers band,Events,Tuesday Night Live
END:VEVENT
BEGIN:VEVENT
DTSTART;TZID=Europe/London:20260707T190000
DTEND;TZID=Europe/London:20260707T213000
DTSTAMP:20260421T165011
CREATED:20260420T184558Z
LAST-MODIFIED:20260420T184558Z
UID:34819-1783450800-1783459800@heartcentre.org.uk
SUMMARY:TNL: Campbell Johnston
DESCRIPTION:  \nTuesday Night Live: CAMPBELL JOHNSTON \nDoors 7pm Music 7.15pm \nAward winning Canadian Blues duo\, Christine Campbell & Blake Johnston bring a captivating blend of vintage blues-rock\, roots\, and folk—with a modern edge delivering a seamless interplay of blistering guitar solos\, soulful vocals\, and rich harmonies. \nTheir debut album earned them the 2022 East Coast Music Award for Best Blues Album and a nomination from the Maple Blues Awards. And their newest album\, Paisley Hearts (Spring 2024)\, continues to reflect their signature vintage vibe with a fresh twist. It debuted at #3 on the Canadian Roots Music Report and received radio play across Canada\, the U.K.\, and the U.S. \nThe single Find Your Way won them another ECMA for Best Blues Release (2025)\, and the album WON them Blues Recording of the Year by Music Nova Scotia. \nAdvance tickets £8/£7 concession (student + unwaged) available from HEART reception and online. \nOn the Night £10
URL:https://heartcentre.org.uk/event/tnl-campbell-johnston/
LOCATION:Shire Oak Hall\, Bennett Road\, Leeds\, LS6 3HN\, United Kingdom
CATEGORIES:Blues,Events,Tuesday Night Live
END:VEVENT
BEGIN:VEVENT
DTSTART;TZID=Europe/London:20260713T190000
DTEND;TZID=Europe/London:20260713T210000
DTSTAMP:20260421T165011
CREATED:20251109T161214Z
LAST-MODIFIED:20260310T143449Z
UID:34455-1783969200-1783976400@heartcentre.org.uk
SUMMARY:SOUNDBITES - Monthly Poetry Open Mic
DESCRIPTION:SOUNDBITES – Monthly Poetry Open Mic  \nLive in the Assembly Bar + Kitchen! \nReadings by a different local published poet each month. Check here for updates \nOPEN MIC \nWe supply the mic – you supply the poetry \nPut your name down for a 4 minute slot (first come\, first served) or just come along and listen. \nOpen mic name listing from 6.30pm \nEvent begins with guest poet at 7.00pm \nEveryone welcome. Free (donation appreciated)
URL:https://heartcentre.org.uk/event/soundbites-monthly-poetry-open-mic-29/
LOCATION:Assembly Bar + Kitchen\, Bennett Road\, Leeds\, LS6 3HN\, United Kingdom
CATEGORIES:Events,poetry,poetry open mic
ATTACH;FMTTYPE=image/jpeg:https://heartcentre.org.uk/wp-content/uploads/2024/01/Soundbites-event-heading.jpeg
END:VEVENT
BEGIN:VEVENT
DTSTART;TZID=Europe/London:20260714T190000
DTEND;TZID=Europe/London:20260714T213000
DTSTAMP:20260421T165011
CREATED:20260420T121628Z
LAST-MODIFIED:20260420T121628Z
UID:34809-1784055600-1784064600@heartcentre.org.uk
SUMMARY:TNL/Jazz at HEART: Bridge Quartet
DESCRIPTION:Tuesday Night Live/Jazz at HEART: BRIDGE QUARTET \nDoors 7pm. Music 7.15pm \nUK tour of the Scandinavian-British Bridge Quartet\, paying tribute to Sonny Rollins’ iconic ‘The Bridge’ record \nInspired by the legendary collaboration between saxophonist Sonny Rollins and guitarist Jim Hall\, a partnership immortalised on their record ‘The Bridge’\, the new Scandinavian-British Bridge Quartet was set up by British guitarist James Girling after he moved to Norway. Bringing together compatriot saxophonist Dave Edge and the formidable young rhythm section of Danish drummer Emil Norman and Norwegian double bassist Andreas Svabø\, this all-Oslo-based quartet establishes a conduit between British and Scandinavian musicians for expressing their shared love of the American modern jazz tradition against a contemporary northern European backdrop. \nBridge Quartet’s debut project pays tribute to Sonny Rollins’ iconic ‘The Bridge’\, played in its entirety alongside gems from Rollins’ following album ‘What’s New’: all recorded within a few months in early 1962 by Rollins’ quartet of Hall\, Bob Cranshaw (bass) and Ben Riley (drums). \nBridge Quartet are touring the UK in July 2026\, returning by popular request after their debut UK tour in 2025 – the same year saxophone colossus Rollins turned 95. \nDave Edge (UK) – tenor sax\, James Girling (UK) – guitar\, Andreas Svabø (NO) – double bass\, Emil Norman (DK) – drums \nAdvance tickets £8/£7 concessions (students + unwaged) available from HEART reception and online . \nOn the Night £10
URL:https://heartcentre.org.uk/event/tnl-jazz-at-heart-bridge-quartet/
LOCATION:Shire Oak Hall\, Bennett Road\, Leeds\, LS6 3HN\, United Kingdom
CATEGORIES:Events,Jazz,Tuesday Night Live
END:VEVENT
BEGIN:VEVENT
DTSTART;TZID=Europe/London:20260810T190000
DTEND;TZID=Europe/London:20260810T210000
DTSTAMP:20260421T165011
CREATED:20251109T161510Z
LAST-MODIFIED:20251109T161510Z
UID:34457-1786388400-1786395600@heartcentre.org.uk
SUMMARY:SOUNDBITES - Monthly Poetry Open Mic
DESCRIPTION:SOUNDBITES – Monthly Poetry Open Mic  \nLive in the Assembly Bar + Kitchen! \nReadings by a different local published poet each month. Check here for updates \nOPEN MIC \nWe supply the mic – you supply the poetry \nPut your name down for a 5 minute slot (first come\, first served) or just come along and listen. \nOpen mic name listing from 6.30pm \nEvent begins with guest poet at 7.00pm \nEveryone welcome. Free (donation appreciated)
URL:https://heartcentre.org.uk/event/soundbites-monthly-poetry-open-mic-30/
LOCATION:Assembly Bar + Kitchen\, Bennett Road\, Leeds\, LS6 3HN\, United Kingdom
CATEGORIES:Events,poetry,poetry open mic
ATTACH;FMTTYPE=image/jpeg:https://heartcentre.org.uk/wp-content/uploads/2024/01/Soundbites-event-heading.jpeg
END:VEVENT
BEGIN:VEVENT
DTSTART;VALUE=DATE:20260831
DTEND;VALUE=DATE:20260901
DTSTAMP:20260421T165011
CREATED:20250830T121032Z
LAST-MODIFIED:20250830T121032Z
UID:34239-1788134400-1788220799@heartcentre.org.uk
SUMMARY:HEART CLOSED
DESCRIPTION:
URL:https://heartcentre.org.uk/event/heart-closed-11/
END:VEVENT
BEGIN:VEVENT
DTSTART;TZID=Europe/London:20260914T190000
DTEND;TZID=Europe/London:20260914T210000
DTSTAMP:20260421T165011
CREATED:20251109T161947Z
LAST-MODIFIED:20251109T161947Z
UID:34459-1789412400-1789419600@heartcentre.org.uk
SUMMARY:SOUNDBITES - Monthly Poetry Open Mic
DESCRIPTION:SOUNDBITES – Monthly Poetry Open Mic  \nLive in the Assembly Bar + Kitchen! \nReadings by a different local published poet each month. Check here for updates \nOPEN MIC \nWe supply the mic – you supply the poetry \nPut your name down for a 5 minute slot (first come\, first served) or just come along and listen. \nOpen mic name listing from 6.30pm \nEvent begins with guest poet at 7.00pm \nEveryone welcome. Free (donation appreciated)
URL:https://heartcentre.org.uk/event/soundbites-monthly-poetry-open-mic-31/
LOCATION:Assembly Bar + Kitchen\, Bennett Road\, Leeds\, LS6 3HN\, United Kingdom
CATEGORIES:Events,poetry,poetry open mic
ATTACH;FMTTYPE=image/jpeg:https://heartcentre.org.uk/wp-content/uploads/2024/01/Soundbites-event-heading.jpeg
END:VEVENT
BEGIN:VEVENT
DTSTART;TZID=Europe/London:20261012T190000
DTEND;TZID=Europe/London:20261012T210000
DTSTAMP:20260421T165011
CREATED:20251109T162252Z
LAST-MODIFIED:20251109T162252Z
UID:34461-1791831600-1791838800@heartcentre.org.uk
SUMMARY:SOUNDBITES - Monthly Poetry Open Mic
DESCRIPTION:SOUNDBITES – Monthly Poetry Open Mic  \nLive in the Assembly Bar + Kitchen! \nReadings by a different local published poet each month. Check here for updates \nOPEN MIC \nWe supply the mic – you supply the poetry \nPut your name down for a 5 minute slot (first come\, first served) or just come along and listen. \nOpen mic name listing from 6.30pm \nEvent begins with guest poet at 7.00pm \nEveryone welcome. Free (donation appreciated)
URL:https://heartcentre.org.uk/event/soundbites-monthly-poetry-open-mic-32/
LOCATION:Assembly Bar + Kitchen\, Bennett Road\, Leeds\, LS6 3HN\, United Kingdom
CATEGORIES:Events,Poetry,poetry open mic
ATTACH;FMTTYPE=image/jpeg:https://heartcentre.org.uk/wp-content/uploads/2024/01/Soundbites-event-heading.jpeg
END:VEVENT
BEGIN:VEVENT
DTSTART;TZID=Europe/London:20261109T190000
DTEND;TZID=Europe/London:20261109T210000
DTSTAMP:20260421T165011
CREATED:20251109T162558Z
LAST-MODIFIED:20251109T162558Z
UID:34463-1794250800-1794258000@heartcentre.org.uk
SUMMARY:SOUNDBITES - Monthly Poetry Open Mic
DESCRIPTION:SOUNDBITES – Monthly Poetry Open Mic  \nLive in the Assembly Bar + Kitchen! \nReadings by a different local published poet each month. Check here for updates \nOPEN MIC \nWe supply the mic – you supply the poetry \nPut your name down for a 5 minute slot (first come\, first served) or just come along and listen. \nOpen mic name listing from 6.30pm \nEvent begins with guest poet at 7.00pm \nEveryone welcome. Free (donation appreciated)
URL:https://heartcentre.org.uk/event/soundbites-monthly-poetry-open-mic-33/
LOCATION:Assembly Bar + Kitchen\, Bennett Road\, Leeds\, LS6 3HN\, United Kingdom
CATEGORIES:Events,poetry,poetry open mic
ATTACH;FMTTYPE=image/jpeg:https://heartcentre.org.uk/wp-content/uploads/2024/01/Soundbites-event-heading.jpeg
END:VEVENT
BEGIN:VEVENT
DTSTART;TZID=Europe/London:20261214T190000
DTEND;TZID=Europe/London:20261214T210000
DTSTAMP:20260421T165011
CREATED:20251109T162908Z
LAST-MODIFIED:20251124T203425Z
UID:34465-1797274800-1797282000@heartcentre.org.uk
SUMMARY:SOUNDBITES - Monthly Poetry Open Mic
DESCRIPTION:SOUNDBITES – Monthly Poetry Open Mic  \nLive in the Assembly Bar + Kitchen! \nReadings by a different local published poet each month. Check here for updates \nOPEN MIC \nWe supply the mic – you supply the poetry \nPut your name down for a 5 minute slot (first come\, first served) or just come along and listen. \nOpen mic name listing from 6.30pm \nEvent begins with guest poet at 7.00pm \nEveryone welcome. Free (donation appreciated)
URL:https://heartcentre.org.uk/event/soundbites-monthly-poetry-open-mic-34/
LOCATION:Assembly Bar + Kitchen\, Bennett Road\, Leeds\, LS6 3HN\, United Kingdom
CATEGORIES:Events,Poetry,poetry open mic
ATTACH;FMTTYPE=image/jpeg:https://heartcentre.org.uk/wp-content/uploads/2024/01/Soundbites-event-heading.jpeg
END:VEVENT
BEGIN:VEVENT
DTSTART;TZID=Europe/London:20261224T120000
DTEND;TZID=Europe/London:20261224T213000
DTSTAMP:20260421T165011
CREATED:20250830T121949Z
LAST-MODIFIED:20250830T121949Z
UID:34241-1798113600-1798147800@heartcentre.org.uk
SUMMARY:HEART CLOSED
DESCRIPTION:
URL:https://heartcentre.org.uk/event/heart-closed-12/
END:VEVENT
BEGIN:VEVENT
DTSTART;VALUE=DATE:20261225
DTEND;VALUE=DATE:20270103
DTSTAMP:20260421T165011
CREATED:20250830T122023Z
LAST-MODIFIED:20250830T122023Z
UID:34243-1798156800-1798934399@heartcentre.org.uk
SUMMARY:HEART CLOSED
DESCRIPTION:
URL:https://heartcentre.org.uk/event/heart-closed-13/
END:VEVENT
END:VCALENDAR