BEGIN:VCALENDAR
VERSION:2.0
PRODID:-//HEART Centre Leeds - ECPv6.3.7//NONSGML v1.0//EN
CALSCALE:GREGORIAN
METHOD:PUBLISH
X-ORIGINAL-URL:https://heartcentre.org.uk
X-WR-CALDESC:Events for HEART Centre Leeds
REFRESH-INTERVAL;VALUE=DURATION:PT1H
X-Robots-Tag:noindex
X-PUBLISHED-TTL:PT1H
BEGIN:VTIMEZONE
TZID:Europe/London
BEGIN:DAYLIGHT
TZOFFSETFROM:+0000
TZOFFSETTO:+0100
TZNAME:BST
DTSTART:20250330T010000
END:DAYLIGHT
BEGIN:STANDARD
TZOFFSETFROM:+0100
TZOFFSETTO:+0000
TZNAME:GMT
DTSTART:20251026T010000
END:STANDARD
END:VTIMEZONE
BEGIN:VEVENT
DTSTART;TZID=Europe/London:20250304T101500
DTEND;TZID=Europe/London:20250304T123000
DTSTAMP:20260422T190410
CREATED:20250123T105858Z
LAST-MODIFIED:20250214T134750Z
UID:33536-1741083300-1741091400@heartcentre.org.uk
SUMMARY:International Women's Day - poetry and music
DESCRIPTION:International Women’s Day – poetry and music \nDoors 10.15am Event begins 10.30am \nJoin HEARTLINES WRITERS’ GROUP to celebrate IWD with coffee\, cake\, and a programme of poetry\, prose\, and music from singer/songwriter Maria Sandle along with Rob Baker \nFree admission – donations welcome \nEvent sponsored by Headingley Lit Fest
URL:https://heartcentre.org.uk/event/international-womens-day-poetry-and-music/
LOCATION:Shire Oak Hall\, Bennett Road\, Leeds\, LS6 3HN\, United Kingdom
CATEGORIES:choir,Events,Folk,International Women's Day,Music,poetry
END:VEVENT
END:VCALENDAR