BEGIN:VCALENDAR
VERSION:2.0
PRODID:-//HEART Centre Leeds - ECPv6.3.7//NONSGML v1.0//EN
CALSCALE:GREGORIAN
METHOD:PUBLISH
X-ORIGINAL-URL:https://heartcentre.org.uk
X-WR-CALDESC:Events for HEART Centre Leeds
REFRESH-INTERVAL;VALUE=DURATION:PT1H
X-Robots-Tag:noindex
X-PUBLISHED-TTL:PT1H
BEGIN:VTIMEZONE
TZID:Europe/London
BEGIN:DAYLIGHT
TZOFFSETFROM:+0000
TZOFFSETTO:+0100
TZNAME:BST
DTSTART:20230326T010000
END:DAYLIGHT
BEGIN:STANDARD
TZOFFSETFROM:+0100
TZOFFSETTO:+0000
TZNAME:GMT
DTSTART:20231029T010000
END:STANDARD
END:VTIMEZONE
BEGIN:VEVENT
DTSTART;TZID=Europe/London:20230911T190000
DTEND;TZID=Europe/London:20230911T210000
DTSTAMP:20260424T081144
CREATED:20230310T170838Z
LAST-MODIFIED:20230801T212533Z
UID:29701-1694458800-1694466000@heartcentre.org.uk
SUMMARY:SOUNDBITES - Monthly Poetry Open Mic Event
DESCRIPTION:SOUNDBITES – Monthly Poetry Open Mic Event \nLive in the Assembly Bar + Kitchen! \nReadings by a different local published poet each month. This month we’re delighted to welcome LINDA MARSHALL – Linda’s appearance will be on video. \nLinda Marshall\, poet and former co-editor of Aireings poetry magazine\, has three collections\nof poetry to her name. Her latest\, Cloud Cuckoo Café\, is published by Yaffle Press\, and\ncontains poems that will make people wake up and smell the coffee! \nLinda is currently working on a poetry book focused on Headingley to be launched later this year. She enjoys taking part in various zoom poetry workshops and is a member of Heartlines writers and Lucht Focail\, the Leeds Irish group of poets. \nHer style is often surreal with a twist humour. \nWe supply the mic – you supply the poetry \nPut your name down for a 5 minute slot (first come\, first served) or just come along and listen. \nOpen mic name listing from 6.30pm \nEvent begins with guest poet at 7.00pm \nEveryone welcome. Free (donation appreciated).
URL:https://heartcentre.org.uk/event/soundbites-monthly-poetry-open-mic-event-10/
LOCATION:Assembly Bar + Kitchen\, Bennett Road\, Leeds\, LS6 3HN\, United Kingdom
CATEGORIES:Events,Open Mic,Poetry
ATTACH;FMTTYPE=image/jpeg:https://heartcentre.org.uk/wp-content/uploads/2018/11/Soundbites-Open-Mic.jpeg
END:VEVENT
BEGIN:VEVENT
DTSTART;TZID=Europe/London:20230814T190000
DTEND;TZID=Europe/London:20230814T210000
DTSTAMP:20260424T081144
CREATED:20230310T170538Z
LAST-MODIFIED:20230716T143435Z
UID:29699-1692039600-1692046800@heartcentre.org.uk
SUMMARY:SOUNDBITES - Monthly Poetry Open Mic Event
DESCRIPTION:SOUNDBITES – Monthly Poetry Open Mic Event \nLive in the Assembly Bar + Kitchen! \nReadings by a different local published poet each month and this month we’re delighted to welcome JAMIE H SCRUTTON \nJamie is a Yorkshire based artist\, specialising in performance poetry and animation. He has showcased his work at various events around the UK\, including ‘Exploding Cinema’ and ‘Kino Open Mic Film Night’\, both based in London. \nHe has headlined events such as ‘Stanza Extravaganza’ and ‘Big Poetry’\, both based in Torquay. He won the Audience Choice Award for his animation ‘The Day My Gran Rode a Rollercoaster’ at the Winter Gardens Film Festival in Blackpool\, 2017. He released his debut book titled ‘The devil Makes Work for Creative Hands’\, which touches upon his processes as an artist and his personal debilitating episodes through mental health. The book is available through Waterstones. He will be releasing his forthcoming animation ‘The Mirage’ this summer. \nOpen Mic \nWe supply the mic – you supply the poetry \nPut your name down for a 5 minute slot (first come\, first served) or just come along and listen. \nOpen mic name listing from 6.30pm \nEvent begins with guest poet at 7.00pm \nEveryone welcome. Free (donation appreciated).
URL:https://heartcentre.org.uk/event/soundbites-monthly-poetry-open-mic-event-9/
LOCATION:Assembly Bar + Kitchen\, Bennett Road\, Leeds\, LS6 3HN\, United Kingdom
CATEGORIES:Events,Open Mic,Poetry
ATTACH;FMTTYPE=image/jpeg:https://heartcentre.org.uk/wp-content/uploads/2018/11/Soundbites-Open-Mic.jpeg
END:VEVENT
END:VCALENDAR