BEGIN:VCALENDAR
VERSION:2.0
PRODID:-//HEART Centre Leeds - ECPv6.3.7//NONSGML v1.0//EN
CALSCALE:GREGORIAN
METHOD:PUBLISH
X-ORIGINAL-URL:https://heartcentre.org.uk
X-WR-CALDESC:Events for HEART Centre Leeds
REFRESH-INTERVAL;VALUE=DURATION:PT1H
X-Robots-Tag:noindex
X-PUBLISHED-TTL:PT1H
BEGIN:VTIMEZONE
TZID:Europe/London
BEGIN:DAYLIGHT
TZOFFSETFROM:+0000
TZOFFSETTO:+0100
TZNAME:BST
DTSTART:20220327T010000
END:DAYLIGHT
BEGIN:STANDARD
TZOFFSETFROM:+0100
TZOFFSETTO:+0000
TZNAME:GMT
DTSTART:20221030T010000
END:STANDARD
END:VTIMEZONE
BEGIN:VEVENT
DTSTART;TZID=Europe/London:20220411T190000
DTEND;TZID=Europe/London:20220411T210000
DTSTAMP:20260423T230806
CREATED:20220207T193125Z
LAST-MODIFIED:20220401T131927Z
UID:27485-1649703600-1649710800@heartcentre.org.uk
SUMMARY:SOUNDBITES - Monthly Poetry Open Mic Event on Zoom
DESCRIPTION:SOUNDBITES – Monthly Poetry Open Mic Event on Zoom \nWe present a published guest poet each month. This month were delighted to welcome LESLEY CONSTABLE. \nLesley Constable is a poet and a painter\, starting from an early age\, and encouraged by family who were in the arts. She is also a trained Modern Dancer. She writes\, paints\, draws\, and dances on a daily basis. Occupationally\, she is proud to have made her living exclusively as an arts worker – an art critic writing for a daily newspaper in Ohio\, also a university studio arts instructor\, an art gallery curator and who also taught art\nhistory at other colleges and universities. \nHer work\, both poetry and painting\, is frequently associated with the term Magic Realism and she is also often noted or described as a Visionary Artist. She is most often linked as being associated with or from the lineage of the US Beat Poets. What is paid attention to\, in her work\, is what is behind the scenes and not often or directly visible – the dream state or the workings of the subconscious mind. \nShe is project-based and has also organized and staged many collaborative and poetry and visual arts events. \nShe is a US and UK dual citizen who lives\, variously\, in both countries\, but has most frequently lived in Mexico. \n\nONLY CLICK THIS LINK if you want an open mic slot or haven’t been to Soundbites on Zoom before https://forms.gle/WzwZMfamB17Bcj1q8\nIf you are not planning to read and have been to Soundbites on Zoom before\, you don’t need to complete the form. The cut off date for signing up is Sunday 10th April\n\n\nPrevious visitors to the SOUNDBITES Zoom sessions\, will receive the monthly Zoom link by email\, which will be for audience participation only. Please make sure to save the link to join us on Zoom on the night. If you want to read your work you will still need to use the sign-up form.\n\n\n\nSigning up includes your agreement to use your email address to send you the Zoom link and to keep you informed of any Soundbites related information. We would not make any other use of it or pass it on to anyone else.\n\n\n\nNo recording would be published without the consent of the participants.\n\n\n\nEveryone welcome.\n\nThanks and good wishes from the Soundbites Team\nCate\, Barbara\, Jackie\, Myrna and Howard. \n\n\nFind out more at  http://www.heartlines.uk\n\nor on Facebook at Soundbites Poetry\n\nThere is no charge for taking part but\, if you wish to\, here is a link to the HEART Crowdfunder page where you can make a donation: https://www.crowdfunder.co.uk/support-heart-through-this-uncertain-time
URL:https://heartcentre.org.uk/event/soundbites-monthly-poetry-open-mic-event-on-zoom-4/
CATEGORIES:Events,Open Mic,poetry
ATTACH;FMTTYPE=image/jpeg:https://heartcentre.org.uk/wp-content/uploads/2018/11/Soundbites-Open-Mic.jpeg
END:VEVENT
BEGIN:VEVENT
DTSTART;TZID=Europe/London:20220314T190000
DTEND;TZID=Europe/London:20220314T210000
DTSTAMP:20260423T230806
CREATED:20220122T232934Z
LAST-MODIFIED:20220303T133802Z
UID:27336-1647284400-1647291600@heartcentre.org.uk
SUMMARY:SOUNDBITES - Monthly Poetry Open Mic Event on Zoom
DESCRIPTION:SOUNDBITES – Monthly Poetry Open Mic Event on Zoom \nWe present a published guest poet each month. This month we’re delighted to welcome back\, FIN HALL \nFin Hall\, who has been poeting for over 50 years\, comes from and lives in The North East of Scotland.\nHe hosts Like A Blot From The Blue Zoom show and live show at The Blue Lamp\, and curates Joined Up Writing collaborative\nwriting project. 100 voices\, Joined Up Writing The Second Instalment and Joined Up Writing Three Fall. \nHis first solo collection\, Once upon a time there was and now there isn’t\, is out now via Runcible Spoon publishers. Fin has had work published in Sounds music paper and in anthologies Voices in The Wind\, The worst of the Red Final\, Angry Manifesto\, Not the Time to be Silent and many others. \nFacebook: Fin Hall  \nLike A Blot From The Blue. Poetry\, events\, films etc. \nCHANGES TO HOW YOU SIGN-UP FOR SOUNDBITES:\nYou\, now only have to sign-up if you want an open mic slot or haven’t been to Soundbites on Zoom before. If you are not planning to read and have been to Soundbites on Zoom before\, you don’t need to complete the form.\n\n\nOnly click this link If you want an open mic slot or haven’t been to Soundbites on Zoom before   https://forms.gle/9vRDMmGuJPQjYu3S7  and complete the usual form.\nCut off date for signing-up: Sunday 13 March.\n\n\nPrevious visitors to the SOUNDBITES Zoom sessions\, will receive the monthly Zoom link by email\, which will be for audience participation only. Please make sure to save the link to join us on Zoom on the night. If you want to read your work you will still need to use the sign-up form.\n\n\n\nSigning up includes your agreement to use your email address to send you the Zoom link and to keep you informed of any Soundbites related information. We would not make any other use of it or pass it on to anyone else.\n \nNo recording would be published without the consent of the participants. \n\n\n\nEveryone welcome.\n\nThanks and good wishes from the Soundbites Team\nCate\, Barbara\, Jackie\, Myrna and Howard. \n\n \nFind out more at  http://www.heartlines.uk \n\nor on Facebook at Soundbites Poetry\n \nThere is no charge for taking part but\, if you wish to\, here is a link to the HEART Crowdfunder page where you can make a donation: https://www.crowdfunder.co.uk/support-heart-through-this-uncertain-time
URL:https://heartcentre.org.uk/event/soundbites-monthly-poetry-open-mic-event-on-zoom-3/
CATEGORIES:Events,Open Mic,poetry
ATTACH;FMTTYPE=image/jpeg:https://heartcentre.org.uk/wp-content/uploads/2018/11/Soundbites-Open-Mic.jpeg
END:VEVENT
BEGIN:VEVENT
DTSTART;TZID=Europe/London:20220214T190000
DTEND;TZID=Europe/London:20220214T210000
DTSTAMP:20260423T230806
CREATED:20211209T203831Z
LAST-MODIFIED:20220125T110930Z
UID:27131-1644865200-1644872400@heartcentre.org.uk
SUMMARY:SOUNDBITES - Monthly Poetry Open Mic Event on Zoom
DESCRIPTION:SOUNDBITES – Monthly Poetry Open Mic Event on Zoom \nWe present a published guest poet each month. This month we’re pleased to welcome\, from the USA – Bryan Franco. \nBRYAN FRANCO is a 55-year-old gay\, Jewish poet from Brunswick\, Maine. He competed with the\nPortland Maine Rhythmic Cypher slam team in the 2014 National Poetry slam in Oakland\, California.\nHis poetry is published in the US\, Australia\, Ireland\, and Scotland. He hosts Cafe Generalissimo Open\nMic\, is a member of Beardo Bards of the Bardo\, painter\, sculptor\, gardener\, and culinary genius. In\nNovember 2021\, his book EVERYTHING I THINK IS ALL IN MY MIND was published by Read or Green\nBooks. \nCHANGES TO HOW YOU SIGN-UP FOR SOUNDBITES:\n\n\nClick this link https://forms.gle/q3b5HLubVWKoVuMZ9 If you want an open mic slot or if you’ve not visited Soundbites on Zoom before.\n\n\n\nURGENT SOUNDBITES INFO – Please note there was a mistake with the wording on the original February’s sign up form which resulted in people not leaving their email\, this means we can’t send them the link to the Zoom session.\n\n\nIf you signed up before 25th January\, please re do it using this link which will take you to a form titled Revised February Soundbites\nhttps://forms.gle/q3b5HLubVWKoVuMZ9\nApologies for the error!\n\n\n\n\n\nYou\, now only have to sign-up if you want an open mic slot or haven’t been to Soundbites on Zoom before. If you are not planning to read and have been to Soundbites on Zoom before\, you don’t need to complete the form.\n\nPrevious visitors to the SOUNDBITES Zoom sessions\, will receive the monthly Zoom link by email\, which will be for audience participation only. Please make sure to save the link to join us on Zoom on the night. If you want to read your work you will still need to use the sign-up form.\n\n\n\nSigning up includes your agreement to use your email address to send you the Zoom link and to keep you informed of any Soundbites related information. We would not make any other use of it or pass it on to anyone else.\n \nNo recording would be published without the consent of the participants. \n\n\n\nEveryone welcome.\n\nThanks and good wishes from the Soundbites Team\nCate\, Barbara\, Jackie\, Myrna and Howard. \n\n \nFind out more at  http://www.heartlines.uk \n\nor on Facebook at Soundbites Poetry\n \nThere is no charge for taking part but\, if you wish to\, here is a link to the HEART Crowdfunder page where you can make a donation: https://www.crowdfunder.co.uk/support-heart-through-this-uncertain-time
URL:https://heartcentre.org.uk/event/soundbites-monthly-poetry-open-mic-event-on-zoom-2/
CATEGORIES:Events,Open Mic,poetry
ATTACH;FMTTYPE=image/jpeg:https://heartcentre.org.uk/wp-content/uploads/2018/11/Soundbites-Open-Mic.jpeg
END:VEVENT
BEGIN:VEVENT
DTSTART;TZID=Europe/London:20220110T190000
DTEND;TZID=Europe/London:20220110T213000
DTSTAMP:20260423T230806
CREATED:20211130T201632Z
LAST-MODIFIED:20220103T120109Z
UID:27087-1641841200-1641850200@heartcentre.org.uk
SUMMARY:SOUNDBITES - Monthly Poetry Open Mic Event on Zoom
DESCRIPTION:To everyone who joined us live or on Zoom during 2021 we\, the SOUNDBITES organisers\, wish you health and happiness for 2022.\n \nCHANGES TO HOW YOU SIGN-UP FOR SOUNDBITES:\n\nYou\, now only have to sign-up if you want an open mic slot or haven’t been to Soundbites on Zoom before (see link below). If you are not planning to read and have been to Soundbites on Zoom before\, you don’t need to complete the form.\n\nPrevious visitors to the SOUNDBITES Zoom sessions\, will receive the monthly Zoom link by email\, which will be for audience participation only. Please make sure to save the link to join us on Zoom on the night. (If you want to read your work you will still need to use the sign-up form by using the link below.)\n\n\nJoin us for SOUNDBITES on Zoom – at 7pm on Monday 10 January 2022\nHeadline poet – Pratibha Castle\n\nIf you want an open mic slot click this link https://forms.gle/XbP4YFMhgWVHS2JC8 to complete the usual form.\nIf you have not visited Soundbites before and just want to join the audience\, you will also need to click on the above link and complete the form\, to receive the Zoom session link.\n\n\n\n\n\nSigning up includes your agreement to use your email address to send you the Zoom link and to keep you informed of any Soundbites related information. We would not make any other use of it or pass it on to anyone else.\n \nNo recording would be published without the consent of the participants.\n\n\n\nEveryone welcome.\n\nThanks and good wishes from the Soundbites Team\nCate\, Barbara\, Jackie\, Myrna and Howard. \n\n\n\n\nWe present a published guest poet each month. This month we’re delighted to welcome PRATIBHA CASTLE. \n \nPratibha Castle’s award-winning debut pamphlet A Triptych of Birds and A Few Loose Feathers (Hedgehog Poetry Press) publishes 2022. Her work appears in Agenda\, HU\, Blue Nib\, OHC\, Live Encounters Poetry & Writing\, Old Water Rat Publishing and Raceme and London Grip\, amongst others. Highly commended\, long-listed and given special mention in competitions including The Bridport Poetry Prize 2021\, Welsh Poetry Competition\, Gloucestershire Poetry Society Competition\, Brian Dempsey Memorial Competition\, Sentinel Literary Journal Competition\, Storytown Poetry Competition. She is anthologised\, and a regular reader for West Wilts Radio Poetry Place. She can be heard speaking about her life and inspiration and reading a selection of her work on Home Stage Meet the Poet. https://www.youtube.com/watch?v=C2_sEo0gMOY \nBorn in Dublin\, Pratibha Castle now lives in West Sussex. Although she had a brief love affair with poetry – both the reading and the writing of it – on an English and Creative Writing Degree course at Chichester University in 2009\, her focus at that time and later on a Creative Writing MA at Chichester University\, was prose. In 2019\, inspired by Mary Oliver’s passing\, poetry took her over. It has yet to let her out of its grip\, a situation she is well content with. Pratibha is currently looking for a publisher for a second pamphlet. \n  \n\nFind out more at  http://www.heartlines.uk \n\nor on Facebook at Soundbites Poetry\n \nThere is no charge for taking part but\, if you wish to\, here is a link to the HEART Crowdfunder page where you can make a donation: https://www.crowdfunder.co.uk/support-heart-through-this-uncertain-time
URL:https://heartcentre.org.uk/event/soundbites-monthly-poetry-open-mic-event-on-zoom/
CATEGORIES:Events,Open Mic,poetry
ATTACH;FMTTYPE=image/jpeg:https://heartcentre.org.uk/wp-content/uploads/2018/11/Soundbites-Open-Mic.jpeg
END:VEVENT
END:VCALENDAR