BEGIN:VCALENDAR
VERSION:2.0
PRODID:-//HEART Centre Leeds - ECPv6.3.7//NONSGML v1.0//EN
CALSCALE:GREGORIAN
METHOD:PUBLISH
X-ORIGINAL-URL:https://heartcentre.org.uk
X-WR-CALDESC:Events for HEART Centre Leeds
REFRESH-INTERVAL;VALUE=DURATION:PT1H
X-Robots-Tag:noindex
X-PUBLISHED-TTL:PT1H
BEGIN:VTIMEZONE
TZID:Europe/London
BEGIN:DAYLIGHT
TZOFFSETFROM:+0000
TZOFFSETTO:+0100
TZNAME:BST
DTSTART:20260329T010000
END:DAYLIGHT
BEGIN:STANDARD
TZOFFSETFROM:+0100
TZOFFSETTO:+0000
TZNAME:GMT
DTSTART:20261025T010000
END:STANDARD
END:VTIMEZONE
BEGIN:VEVENT
DTSTART;TZID=Europe/London:20260502T190000
DTEND;TZID=Europe/London:20260502T213000
DTSTAMP:20260421T130145
CREATED:20260412T123835Z
LAST-MODIFIED:20260414T200233Z
UID:34781-1777748400-1777757400@heartcentre.org.uk
SUMMARY:The HEART Ceilidh
DESCRIPTION:The HEART CEILIDH \nDoor 7pm Ceilidh 7.15pm \nJoin us for an energetic evening of traditional Scottish dancing and music at HEART with The HEART Folk Band. \nBring your friends\, family\, or come along solo – everyone is welcome! \nTickets £10 available from HEART reception and online
URL:https://heartcentre.org.uk/event/the-heart-ceilidh-2/
LOCATION:Shire Oak Hall\, Bennett Road\, Leeds\, LS6 3HN\, United Kingdom
CATEGORIES:Ceilidh,Events
END:VEVENT
BEGIN:VEVENT
DTSTART;TZID=Europe/London:20260505T190000
DTEND;TZID=Europe/London:20260505T213000
DTSTAMP:20260421T130145
CREATED:20260321T184441Z
LAST-MODIFIED:20260323T143211Z
UID:34732-1778007600-1778016600@heartcentre.org.uk
SUMMARY:TNL: Duncan McFarlane Acoustic Band
DESCRIPTION:Tuesday Night Live: DUNCAN McFARLANE ACOUSTIC BAND \nDoors 7pm Music 7.15pm\n\nDUNCAN McFARLANE ACOUSTIC BAND – four of the award winning Duncan McFarlane Band offer up their acoustic fare. They plan an entertaining blend of progressive self-penned and contemporary songs utilising guitar\, fiddle\, bass and a variety of other instruments – with all four singing! Expect style\, panache and lashings of good humour! For over twenty years they have graced many a Festival Main Stage from Shrewsbury to Sidmouth\, from Otley to Ely\, from Costa del Folk Spain\, to Denmark!\n\n“Top lad that Duncan McFarlane\, a great bandleader who brings so much pleasure and fun to so many\, many people. He writes some great original material and I love his lively version of traditional folk song. Do go and see him because he’s absolutely terrific\, whether he’s doing his acoustic set\, or doing the folk-rock set with his full band\, he’s a favourite at festivals all over England and beyond” – Mike Harding\nAdvance tickets £8/£7 concession (students + unwaged)\nOn the Night £10\n\n\n\n \n\n\n\n\n\n\n\n\n\n\n 
URL:https://heartcentre.org.uk/event/tnl-duncan-mcfarlane-acoustic-band/
LOCATION:Shire Oak Hall\, Bennett Road\, Leeds\, LS6 3HN\, United Kingdom
CATEGORIES:Acoustic,Events,Folk,Tuesday Night Live
END:VEVENT
BEGIN:VEVENT
DTSTART;TZID=Europe/London:20260511T190000
DTEND;TZID=Europe/London:20260511T210000
DTSTAMP:20260421T130145
CREATED:20251109T160252Z
LAST-MODIFIED:20260419T145135Z
UID:34451-1778526000-1778533200@heartcentre.org.uk
SUMMARY:SOUNDBITES - Monthly Poetry Open Mic
DESCRIPTION:SOUNDBITES – Monthly Poetry Open Mic  \nLive in the Assembly Bar + Kitchen! \nReadings by a different local published poet each month.  And this month we’re delighted to welcome MARK CONNORS\, SANDRA NOEL and LIZ McPHERSON reading from Linger\, the first Three Little Birds title from Yaffle. \n  \nMARK is managing editor at Yaffle and is a published poet and novelist as well as the former host at Wordclub. \nSANDRA is an award-winning poet from Jersey whose work has been widely published and has also appeared on buses! \nLIZ is co-organiser at Rhubarb Poetry Open Mic in Shipley and rep for Heartlines Stanza in Headingley\, Leeds. Her work has also been widely published. \n  \nOPEN MIC \nWe supply the mic – you supply the poetry \nPut your name down for a 4 minute slot (first come\, first served) or just come along and listen. \nOpen mic name listing from 6.30pm \nEvent begins with guest poet at 7.00pm \nEveryone welcome. Free (donation appreciated)
URL:https://heartcentre.org.uk/event/soundbites-monthly-poetry-open-mic-27/
LOCATION:Assembly Bar + Kitchen\, Bennett Road\, Leeds\, LS6 3HN\, United Kingdom
CATEGORIES:Events,poetry,poetry open mic
ATTACH;FMTTYPE=image/jpeg:https://heartcentre.org.uk/wp-content/uploads/2024/01/Soundbites-event-heading.jpeg
END:VEVENT
BEGIN:VEVENT
DTSTART;TZID=Europe/London:20260512T190000
DTEND;TZID=Europe/London:20260512T213000
DTSTAMP:20260421T130145
CREATED:20260317T124710Z
LAST-MODIFIED:20260317T124710Z
UID:34720-1778612400-1778621400@heartcentre.org.uk
SUMMARY:TNL: Cobalt Tales
DESCRIPTION:Tuesday Night Live: COBALT TALES \nDoors 7pm Music 7.30pm \nSinger-songwriters and vibrant entertainers COBALT TALES\, are rapidly developing an enviable reputation in the Music World. They display a wide variety of song styles\, delivered with spirit and joy\, and on-stage chemistry. Expect acoustic guitars\, nifty rolling bass\, swingy scat\, powerful vocals and engaging harmonies. \nAdvance tickets £8/£7 commission (students + unwaged) available from HEART reception and online. \nOn the Night £10 
URL:https://heartcentre.org.uk/event/tnl-cobalt-tales-4/
LOCATION:Shire Oak Hall\, Bennett Road\, Leeds\, LS6 3HN\, United Kingdom
CATEGORIES:Events,Folk,Tuesday Night Live
END:VEVENT
BEGIN:VEVENT
DTSTART;TZID=Europe/London:20260513T190000
DTEND;TZID=Europe/London:20260513T213000
DTSTAMP:20260421T130145
CREATED:20260310T141800Z
LAST-MODIFIED:20260310T141800Z
UID:34712-1778698800-1778707800@heartcentre.org.uk
SUMMARY:Films at HEART: The Ballad of Wallis Island
DESCRIPTION:Films at HEART: THE BALLAD OF WALLIS ISLAND \nDoors 7pm Film 7.15pm \nDir James Griffiths/1 hr 39 mins/Certificate 12A/2025 \nWatch TBOWI trailer here \nComedy/Drama/Music/Romance \nAn eccentric two time lottery winner played by Tim Key\, who lives alone on a remote island tries to make his fantasies come true by getting his favorite musicians played by Tom Basden and Sian Clifford\, to perform at his home. \nReview: Roger Ebert 3 stars out of 4 “…written by the film’s stars: Basden and Key…The film bewitches you with its seemingly spontaneous humor\, a cadre of original soulful folk tunes\, and its adoration of the breathtaking surroundings.”   \nTickets £6.50/£5.50 concessions (students + unwaged) available from HEART reception and online
URL:https://heartcentre.org.uk/event/films-at-heart-the-ballad-of-wallis-island/
LOCATION:Shire Oak Hall\, Bennett Road\, Leeds\, LS6 3HN\, United Kingdom
CATEGORIES:Events,Films at Heart
ATTACH;FMTTYPE=image/jpeg:https://heartcentre.org.uk/wp-content/uploads/2022/02/Films-at-Heart-logo-e1767884595669.jpg
END:VEVENT
BEGIN:VEVENT
DTSTART;TZID=Europe/London:20260519T190000
DTEND;TZID=Europe/London:20260519T213000
DTSTAMP:20260421T130145
CREATED:20260326T171856Z
LAST-MODIFIED:20260326T171856Z
UID:34740-1779217200-1779226200@heartcentre.org.uk
SUMMARY:TNL: Colour of Light
DESCRIPTION:Tuesday Night Live: COLOUR OF LIGHT \nDoors 7pm. Music 7.15pm \nCOLOUR of LIGHT are a guitar\, banjo\, double bass and harmonica and vocal ensemble blending folk\, blues\, bluegrass and classical influences into their own unique sound. \nTheir finely crafted original songs combine rebellion\, reflection and celebration. \nIndividually these musicians have performed at Glastonbury and Latitude Festivals\, won awards\, been played on BBC 6 Music and BBC Radio 4 and have over 3 million Spotify plays. \nComing together around the vibrant Leeds live music scene. This exciting five-piece are guaranteed to inspire and engage with their honest storytelling\, joyful performance and first-class musicianship. \nAdvance ticket £8/£7 concession (students + unwaged) available from HEART reception and online. \nOn the Night £10
URL:https://heartcentre.org.uk/event/tnl-colour-of-light-7/
LOCATION:Shire Oak Hall\, Bennett Road\, Leeds\, LS6 3HN\, United Kingdom
CATEGORIES:Bluegrass,Blues,Events,Folk,Tuesday Night Live
END:VEVENT
BEGIN:VEVENT
DTSTART;TZID=Europe/London:20260522T180000
DTEND;TZID=Europe/London:20260522T210000
DTSTAMP:20260421T130145
CREATED:20260404T135506Z
LAST-MODIFIED:20260404T135506Z
UID:34764-1779472800-1779483600@heartcentre.org.uk
SUMMARY:Films at HEART FilmFeast celebrating France
DESCRIPTION:Films at HEART FilmFeast celebrating France with the film HOLY COW and delicious food from ABK HEART cafe \nDoors 6pm \nFood 6.30pm \nFilm 7.15pm \n  \nDir Louise Courvoisier/1hr 32mins/Certificate 15/Subtitles/2024 \nWatch Holy Cow trailer \nComedy/Drama \nTotone’s (Clement Faveau) carefree teenage life of drinking and dancing suddenly changes after his father dies in a car accident and he has to look after his 7-year-old sister. Seeking income\, he channels his energy into producing an award-winning comté cheese to claim a huge competition prize. \nReview: The Guardian gave it 4 out of 5 stars\, praised the performances and described it as “sentimental in the best of ways\, with its warmth and hope in human nature” \nTickets £12 (including both film and food) available from HEART reception and online
URL:https://heartcentre.org.uk/event/films-at-heart-filmfeast-celebrating-france/
LOCATION:Shire Oak Hall\, Bennett Road\, Leeds\, LS6 3HN\, United Kingdom
CATEGORIES:Events,Film,Films at Heart,Food
ATTACH;FMTTYPE=image/jpeg:https://heartcentre.org.uk/wp-content/uploads/2022/02/Films-at-Heart-logo-e1767884595669.jpg
END:VEVENT
BEGIN:VEVENT
DTSTART;TZID=Europe/London:20260526T190000
DTEND;TZID=Europe/London:20260526T213000
DTSTAMP:20260421T130145
CREATED:20260331T153814Z
LAST-MODIFIED:20260331T153814Z
UID:34752-1779822000-1779831000@heartcentre.org.uk
SUMMARY:TNL: Hardtimes Orchestra
DESCRIPTION:Tuesday Night Live: HARDTIMES ORCHESTRA \n\nDoors 7pm Music 7.15pm\n\n\nHardtimes Orchestra- Banquets\, modern and the moon.\n\nPeople say they feel blue\, but the blues is often a way to shake off the weight of the world\, kick over the traces and party like there’s no tomorrow. What better way to celebrate the start of spring and loose your winter blues than getting a big musical hug from Wicks and Co!\n\nThe tiny yet powerful Hardtimes Orchestra perform songs of celebrating the unique and quirky personalities that we all are with such generosity and joy it’s easy to forget someone’s about to get the electric chair… Featuring the divine Miss W\, Jacqui Wicks on vocal\, the instrumental cornucopia that is Richard Ormrod ( clarinet\, drums\, accordion\, vocals\, ukulele\, baritone sax\, piano) and the rock in’ Jonny Flockton on guitars and ukulele\, overflowing with hospitality and humour.\n\nAdvance tickets £8/£7 (students + unwaged) available from HEART reception and online. \nOn the Night £10
URL:https://heartcentre.org.uk/event/tnl-hardtimes-orchestra/
LOCATION:Shire Oak Hall\, Bennett Road\, Leeds\, LS6 3HN\, United Kingdom
CATEGORIES:Blues,Country,Events,Folk,Tuesday Night Live
END:VEVENT
END:VCALENDAR