BEGIN:VCALENDAR
VERSION:2.0
PRODID:-//HEART Centre Leeds - ECPv6.3.7//NONSGML v1.0//EN
CALSCALE:GREGORIAN
METHOD:PUBLISH
X-ORIGINAL-URL:https://heartcentre.org.uk
X-WR-CALDESC:Events for HEART Centre Leeds
REFRESH-INTERVAL;VALUE=DURATION:PT1H
X-Robots-Tag:noindex
X-PUBLISHED-TTL:PT1H
BEGIN:VTIMEZONE
TZID:Europe/London
BEGIN:DAYLIGHT
TZOFFSETFROM:+0000
TZOFFSETTO:+0100
TZNAME:BST
DTSTART:20260329T010000
END:DAYLIGHT
BEGIN:STANDARD
TZOFFSETFROM:+0100
TZOFFSETTO:+0000
TZNAME:GMT
DTSTART:20261025T010000
END:STANDARD
END:VTIMEZONE
BEGIN:VEVENT
DTSTART;TZID=Europe/London:20260303T100000
DTEND;TZID=Europe/London:20260303T123000
DTSTAMP:20260421T131411
CREATED:20260205T193723Z
LAST-MODIFIED:20260205T193815Z
UID:34656-1772532000-1772541000@heartcentre.org.uk
SUMMARY:HEARTLINES celebrate International Women's Day
DESCRIPTION:  \nJoin HEARTLINES Writers Group to celebrate 115 years of International Women’s Day \ndoors 10.15am event starts 10.30am \nwith a programme of poetry\, prose and music from Harissa choir and singer/songwriter Maria Sandle \nFree event – donations accepted. \nSponsored by Headingley Lit Fest \n \n 
URL:https://heartcentre.org.uk/event/heartlines-celebrate-international-womens-day/
LOCATION:Shire Oak Hall\, Bennett Road\, Leeds\, LS6 3HN\, United Kingdom
CATEGORIES:Choir,Events,Folk,International Women's Day,poetry,prose reading
END:VEVENT
BEGIN:VEVENT
DTSTART;TZID=Europe/London:20260303T190000
DTEND;TZID=Europe/London:20260303T213000
DTSTAMP:20260421T131411
CREATED:20260112T150847Z
LAST-MODIFIED:20260113T121643Z
UID:34593-1772564400-1772573400@heartcentre.org.uk
SUMMARY:TNL: Fleeced
DESCRIPTION:Tuesday Night Live: FLEECED \nFleeced are a Leeds-based vocal trio who use close harmony singing to perform original material\, as well as new takes on folk classics\, to make for a delightfully cosy show 🌿 \nImage credit: Rob Nowell \nAdvance Tickets £8/£7 concession (student/unwaged) \nOn the Night £10
URL:https://heartcentre.org.uk/event/tnl-fleeced/
LOCATION:Shire Oak Hall\, Bennett Road\, Leeds\, LS6 3HN\, United Kingdom
CATEGORIES:Events,Folk,Tuesday Night Live
END:VEVENT
BEGIN:VEVENT
DTSTART;TZID=Europe/London:20260309T190000
DTEND;TZID=Europe/London:20260309T210000
DTSTAMP:20260421T131411
CREATED:20251109T155643Z
LAST-MODIFIED:20260130T140804Z
UID:34447-1773082800-1773090000@heartcentre.org.uk
SUMMARY:SOUNDBITES - Poetry Open Mic
DESCRIPTION:SOUNDBITES – Monthly Poetry Open Mic  \nLive in the Assembly Bar + Kitchen! \nReadings by a different local published poet each month. This month we’re delighted to welcome PETER SPAFFORD \nPeter is a writer\, songwriter and broadcaster. He has written for radio\, theatre\,\nmusical theatre and opera. \nHis poetry collections so far are QUICK (Valley Press) and FRISK\n(Yaffle). His latest collection\, SUN TANKING was released by Yaffle Press in 2025. \nHe is also Director of Words at Chapel FM Arts Centre where he curates the annual WRITING\nON AIR festival and presents the weekly podcast LOVE THE WORDS. \nOPEN MIC \nWe supply the mic – you supply the poetry \nPut your name down for a 4 minute slot (first come\, first served) or just come along and listen. \nOpen mic name listing from 6.30pm \nEvent begins with guest poet at 7.00pm \nEveryone welcome. Free (donation appreciated)
URL:https://heartcentre.org.uk/event/soundbites-poetry-open-mic/
LOCATION:Assembly Bar + Kitchen\, Bennett Road\, Leeds\, LS6 3HN\, United Kingdom
CATEGORIES:Events,Poetry,poetry open mic
ATTACH;FMTTYPE=image/jpeg:https://heartcentre.org.uk/wp-content/uploads/2024/01/Soundbites-event-heading.jpeg
END:VEVENT
BEGIN:VEVENT
DTSTART;TZID=Europe/London:20260310T190000
DTEND;TZID=Europe/London:20260310T213000
DTSTAMP:20260421T131411
CREATED:20260106T111918Z
LAST-MODIFIED:20260106T111918Z
UID:34571-1773169200-1773178200@heartcentre.org.uk
SUMMARY:TNL: The Wild Geese
DESCRIPTION:Tuesday Night Live: THE WILD GEESE \nDoors 7pm Music 7.15pm \nThe Wild Geese have played around Yorkshire\, Ireland and further afield for nearly 40 years bringing their enjoyable\, unique mix of traditional and modern songs\, tunes and craic wherever they perform\, and greatly look forward to playing at TNL once again. \nAs their pal Matt Molloy of The Chieftains and Bothy Band says of their visits to play in his Westport pub “Ah! The Wild Geese; you’re always as welcome here as the flowers in Spring!” \nImage: Paul Copley \nAdvance tickets £8/£7 available from HEART reception and online \nOn the Night £10
URL:https://heartcentre.org.uk/event/tnl-the-wild-geese-3/
LOCATION:Shire Oak Hall\, Bennett Road\, Leeds\, LS6 3HN\, United Kingdom
CATEGORIES:Celtic,Events,Folk,Tuesday Night Live
END:VEVENT
BEGIN:VEVENT
DTSTART;TZID=Europe/London:20260313T180000
DTEND;TZID=Europe/London:20260313T213000
DTSTAMP:20260421T131411
CREATED:20260123T164626Z
LAST-MODIFIED:20260304T152005Z
UID:34630-1773424800-1773437400@heartcentre.org.uk
SUMMARY:Films Feast: Santosh
DESCRIPTION:FaH FilmFeast celebrates India with the film SANTOSH and some marvellous food from Heart’s ABK Cafe. \nDoors 6pm . Food served 6.30pm . Film 7.15pm \nDir Sandhya Suri/2hrs 8mins/Certificate 15/ Subtitles/2024 \nMenu: Bombay Potato\, Spinach & Green Bean Curry with Cardamom Rice (vegan and gluten free)\nThis month marks International Women’s Day on the 8th March and we’d also like to celebrate this film’s woman director Sandhya Suri \nWatch Santosh trailer here \nReview: Rotten Tomatoes – 100% from the Tomatometer ‘Shahana Goswami bristles with unforgettable intensity in Santosh\, a nervy procedural that asks the hard questions about a culture’s social hierarchy.’ \nTime Out Worldwide ‘An Indian police constable navigates murder and corruption in a gripping and powerfully feminist procedural.’ Phil de Semlyen \nTickets £12 (includes film and food)
URL:https://heartcentre.org.uk/event/films-at-heart-filmfeast-celebrates-india/
LOCATION:Shire Oak Hall\, Bennett Road\, Leeds\, LS6 3HN\, United Kingdom
CATEGORIES:Events,Film,Films at Heart
ATTACH;FMTTYPE=image/jpeg:https://heartcentre.org.uk/wp-content/uploads/2026/01/Santosh-Poster-2.jpg
END:VEVENT
BEGIN:VEVENT
DTSTART;TZID=Europe/London:20260317T190000
DTEND;TZID=Europe/London:20260317T213000
DTSTAMP:20260421T131411
CREATED:20260106T105815Z
LAST-MODIFIED:20260110T162733Z
UID:34568-1773774000-1773783000@heartcentre.org.uk
SUMMARY:TNL: Flo/ra
DESCRIPTION:Tuesday Night Live: FLO/RA \nFlo/ra is a contemporary jazz quintet led by saxophonist and composer Flo Taylor (Ferg’s Imaginary Big Band\, Goddess Collective). Their music explores themes of neurodivergence\, identity and grief through emotionally honest\, intricately arranged compositions. Flo/ra crafts a sound that is expansive yet deeply personal and vulnerable\, that invites the audience to be part of their world\, while feeling safe to come just as they are. \nThe music draws on influences from classical\, spiritual jazz\, folk\, drum and bass and chant music to avoid comfortable classification\, and to express Flo’s inability to fit comfortably into boxes themselves. The saxophone-led quintet features electric guitar and double bass\, enabling a wide variation of tone from heavy and distorted to gentle and fragile. \nFlo/ra sold out their debut performance at Hyde Park Book Club in January and have since built strong momentum on the Leeds scene. Flo/ra played a recent highlight performance at Lancaster Jazz Festival\, where their highly anticipated debut album was recorded. \nThis will be the final home date of their album release tour promoting their debut album. \nFlo is joined for this gig by a great lineup of Leeds Jazz scene regulars:\n– Callum Greenaway on piano\n– Thomas McEwen on guitar\n– Woody Hayden on upright bass\n– Louis Berthoud on drums\nAdvance tickets £8/£7 available from HEART reception and online \nOn the Night £10
URL:https://heartcentre.org.uk/event/tnl-flo-ra/
LOCATION:Shire Oak Hall\, Bennett Road\, Leeds\, LS6 3HN\, United Kingdom
CATEGORIES:Events,Jazz,Tuesday Night Live
END:VEVENT
BEGIN:VEVENT
DTSTART;TZID=Europe/London:20260324T190000
DTEND;TZID=Europe/London:20260324T213000
DTSTAMP:20260421T131411
CREATED:20260128T143124Z
LAST-MODIFIED:20260128T143124Z
UID:34638-1774378800-1774387800@heartcentre.org.uk
SUMMARY:TNL: Six Days
DESCRIPTION:Tuesday Night Live: SIX DAYS \nDoors 7pm Music 7.15pm \nAcoustic Americana. Songs by some of the greats of the genre.\nPeople like John Hiatt\, Chris Hillman\, Rodney Crowell\, Lyle Lovett\, Don Henley\, Jason Isbell\, Guy Clark and more. \nAdvance tickets £8/£7 concessions (students + unwaged) \nTickets on the Night £10 \n  \n 
URL:https://heartcentre.org.uk/event/tnl-six-days-4/
LOCATION:Shire Oak Hall\, Bennett Road\, Leeds\, LS6 3HN\, United Kingdom
CATEGORIES:Acoustic,Americana,Events,Tuesday Night Live
END:VEVENT
BEGIN:VEVENT
DTSTART;TZID=Europe/London:20260325T190000
DTEND;TZID=Europe/London:20260325T213000
DTSTAMP:20260421T131411
CREATED:20260108T152106Z
LAST-MODIFIED:20260213T154823Z
UID:34588-1774465200-1774474200@heartcentre.org.uk
SUMMARY:Films at HEART: Wicked Little Letters
DESCRIPTION:Films at HEART: WICKED LITTLE LETTERS \nDoors 7pm Film 7.15pm \nDir Thea Sharrock/1hr 40mins/Certificate15/2023 \nWatch Wicked Little Letters trailer here \nStars Jessie Buckley\, Olivia Colman and Timothy Spall. \nBased on the Littlehampton libels of the 1920s\, it follows an investigation into the anonymous author of numerous crudely insulting letters sent to the residents of the seaside town\, including conservative local\, Edith (Olivia Colman).  Single mother  Rose\, from Ireland (Jessie Buckley)\, is charged with the crime. Suspecting that something is amiss\, the town’s women investigate. \nReview: Roger Ebert 3 out of 4 stars “Wicked Little Letters” is a really effective British mystery\, spiked with the comedy of a real caper\, with sneaky people bicycling down lanes\, …” \nTickets £6.50/£5.50 concession (students + unwaged
URL:https://heartcentre.org.uk/event/films-at-heart-the-penguin-lessons/
LOCATION:Shire Oak Hall\, Bennett Road\, Leeds\, LS6 3HN\, United Kingdom
CATEGORIES:Comedy,Events,Film,Films at Heart
ATTACH;FMTTYPE=image/jpeg:https://heartcentre.org.uk/wp-content/uploads/2022/02/Films-at-Heart-logo-e1767884595669.jpg
END:VEVENT
BEGIN:VEVENT
DTSTART;TZID=Europe/London:20260327T190000
DTEND;TZID=Europe/London:20260327T213000
DTSTAMP:20260421T131411
CREATED:20260213T154245Z
LAST-MODIFIED:20260213T154245Z
UID:34663-1774638000-1774647000@heartcentre.org.uk
SUMMARY:Films at HEART: We Only Want the Earth
DESCRIPTION:Films at HEART: WE ONLY WANT THE EARTH: The Life & Ideas of James Connolly \nDoors 7pm Film 7.15pm \nJames Connolly remains an iconic figure in Irish socialism\, republicanism\, and the trade union movement. ‘We Only Want the Earth’ draws directly from his own writings to create a vivid portrait of the man behind the ideals\, situating his radical politics and many achievements within the struggles of today’s world. \nThe film also documents Connolly’s central role in the 1916 Easter Rising\, offering new insight into the political and cultural forces that shaped him. \nTickets: £6.50/£5.50 concessions (students + unwaged)
URL:https://heartcentre.org.uk/event/films-at-heart-we-only-want-the-earth/
LOCATION:Shire Oak Hall\, Bennett Road\, Leeds\, LS6 3HN\, United Kingdom
CATEGORIES:Events,Film,Films at Heart
END:VEVENT
BEGIN:VEVENT
DTSTART;TZID=Europe/London:20260331T190000
DTEND;TZID=Europe/London:20260331T213000
DTSTAMP:20260421T131411
CREATED:20260130T120944Z
LAST-MODIFIED:20260130T120944Z
UID:34642-1774983600-1774992600@heartcentre.org.uk
SUMMARY:TNL: Big Bamboo
DESCRIPTION:Tuesday Night Live: BIG BAMBOO \nDoors 7pm Music 7.15pm \nBIG BAMBOO plays old school hot dance music from the Caribbean islands and Brazil – Rumba\, Choro\, Mento\, Beguine and Merengue – in an acoustic and improvised style reminiscent of New Orleans jazz \nRichard Ormrod grew up with the rich\, lyrical sound of early Caribbean music and has been playing in this style for thirty five years. Trombonist Will Osborne is passionate about early calypso and beguine and\, together\, they lead Big Bamboo on a tour through the first half of the 20th Century\, across several seas\, and through multiple musical traditions rooted in early jazz and hot dance. \nRichard Ormrod – clarinet\nWill Osborne – trombone\nJonny Flockton – guitar/banjo\nAdrian Knowles – double bass\nSam Bell – congas\nMatthew Shallcross – percussion \nAdvance tickets: £8/£7 concessions (students + unwaged) \nOn the Night £10
URL:https://heartcentre.org.uk/event/tnl-big-bamboo-3/
LOCATION:Shire Oak Hall\, Bennett Road\, Leeds\, LS6 3HN\, United Kingdom
CATEGORIES:Events,Jazz,Tuesday Night Live
END:VEVENT
END:VCALENDAR