BEGIN:VCALENDAR
VERSION:2.0
PRODID:-//HEART Centre Leeds - ECPv6.3.7//NONSGML v1.0//EN
CALSCALE:GREGORIAN
METHOD:PUBLISH
X-ORIGINAL-URL:https://heartcentre.org.uk
X-WR-CALDESC:Events for HEART Centre Leeds
REFRESH-INTERVAL;VALUE=DURATION:PT1H
X-Robots-Tag:noindex
X-PUBLISHED-TTL:PT1H
BEGIN:VTIMEZONE
TZID:Europe/London
BEGIN:DAYLIGHT
TZOFFSETFROM:+0000
TZOFFSETTO:+0100
TZNAME:BST
DTSTART:20250330T010000
END:DAYLIGHT
BEGIN:STANDARD
TZOFFSETFROM:+0100
TZOFFSETTO:+0000
TZNAME:GMT
DTSTART:20251026T010000
END:STANDARD
END:VTIMEZONE
BEGIN:VEVENT
DTSTART;TZID=Europe/London:20250311T190000
DTEND;TZID=Europe/London:20250311T213000
DTSTAMP:20260423T124441
CREATED:20250111T183046Z
LAST-MODIFIED:20250122T151012Z
UID:33502-1741719600-1741728600@heartcentre.org.uk
SUMMARY:TNL: The Wild Geese
DESCRIPTION:Tuesday Night Live: THE WILD GEESE \nDoors 7.00pm Music 7.15pm \nAfter over 35 years of playing locally around Yorkshire and further afield in Ireland and places like the US\, The Wild Geese have a backstory of supporting the likes of Dervish\, Liam O’Flynn\, Arty McGlyn and Sean Keane and a history of creating lasting friendships with their unique blend of trad and modern music mixed with affirming banter. \nThe band are really pleased to visit Heart’s TNL again for some seasonal craic and look forward to meeting friends old and new. As their pal Matt Molloy from the Chieftains says of their visits to his pub in Westport\, County Mayo\, ‘Ah! The Wild Geese\, you’re as welcome here as the flowers in Spring!’ \nAdvance tickets £7/£6 concession available from HEART reception and online \nTickets on the door\, on the night £10/£9 concession available only from HEART
URL:https://heartcentre.org.uk/event/tnl-the-wild-geese/
LOCATION:Shire Oak Hall\, Bennett Road\, Leeds\, LS6 3HN\, United Kingdom
CATEGORIES:Celtic,Events,Folk
ATTACH;FMTTYPE=image/jpeg:https://heartcentre.org.uk/wp-content/uploads/2022/09/The-Wild-Geese.jpg
END:VEVENT
END:VCALENDAR