BEGIN:VCALENDAR
VERSION:2.0
PRODID:-//HEART Centre Leeds - ECPv6.3.7//NONSGML v1.0//EN
CALSCALE:GREGORIAN
METHOD:PUBLISH
X-ORIGINAL-URL:https://heartcentre.org.uk
X-WR-CALDESC:Events for HEART Centre Leeds
REFRESH-INTERVAL;VALUE=DURATION:PT1H
X-Robots-Tag:noindex
X-PUBLISHED-TTL:PT1H
BEGIN:VTIMEZONE
TZID:Europe/London
BEGIN:DAYLIGHT
TZOFFSETFROM:+0000
TZOFFSETTO:+0100
TZNAME:BST
DTSTART:20250330T010000
END:DAYLIGHT
BEGIN:STANDARD
TZOFFSETFROM:+0100
TZOFFSETTO:+0000
TZNAME:GMT
DTSTART:20251026T010000
END:STANDARD
END:VTIMEZONE
BEGIN:VEVENT
DTSTART;TZID=Europe/London:20250826T190000
DTEND;TZID=Europe/London:20250826T213000
DTSTAMP:20260422T094830
CREATED:20250624T121410Z
LAST-MODIFIED:20250624T121823Z
UID:34037-1756234800-1756243800@heartcentre.org.uk
SUMMARY:TNL: The Hunch
DESCRIPTION:Tuesday Night Live: THE HUNCH  \nDoors 7.00pm Music 7.15pm \nTHE HUNCH – Hard Hitting Irish\, Americana & Folk with a generous dash of humour. \nAdvance tickets £8/£7 concessions available from HEART reception and online  \nOn the door\, on the night from 6pm £10
URL:https://heartcentre.org.uk/event/34037/
LOCATION:Shire Oak Hall\, Bennett Road\, Leeds\, LS6 3HN\, United Kingdom
CATEGORIES:Americana,Celtic,Events,Folk,Tuesday Night Live
END:VEVENT
END:VCALENDAR